Workbook
Name All_In: Calculator!$BF$38
Name Bill_Cycle: Calculator!$BF$9
Name Buffer_Days: Calculator!$BH$2
Name Calc_inputs: Calculator!$BV$10:$BV$21
Name Complaint_Input: Calculator!$W$24
Name Days_Per_Cycle: Calculator!$CL$10:$CL$23
Name Default_Plan: Calculator!$BF$33
Name Energy_Nom: Calculator!$BX$10:$BX$21
Name hdr_RGDB_TotalCost: Database!$BO$7
Name Locked: Codes!$E$1
Name Meter_Needed: Calculator!$BF$26
Name Meter_Reads: Calculator!$CK$10:$CK$23
Name Months_Entered: Calculator!$BS$4
Name More_Plans: Calculator!$BF$15
Name Mos_Until_EOM: Calculator!$BH$10:$BH$21
Name Moving: Calculator!$BF$11
Name Old_c_kWh: Calculator!$BG$27
Name Old_Rate: Calculator!$BF$28
Name Old_Rate_Input: Calculator!$BF$27
Name Page_Sel: Calculator!$U$36
Name Pick_A_Plan: Calculator!$BF$13
Name Plan_Cost: Calculator!$BF$20
Name Plan_DBRow: Calculator!$BF$19
Name Plan_Input: Calculator!$A$24
Name Plan_Length: Calculator!$BF$21
Name Plans: Database!$B$8:$CQ$360
Name Plans_Count: Calculator!$BF$18
Name Prior_Read: Calculator!$V$21
Name Projd_Retail: Calculator!$BL$10:$BL$21
Name Rate_Nom: Calculator!$BW$10:$BW$21
Name Rate_Type: Calculator!$BF$22
Name Rel_Date: Calculator!$BE$2
Name Renew_Input: Calculator!$P$24
Name REP_Name: Calculator!$BF$32
Name REP_row: Calculator!$BF$23
Name RGDB_RelDate: Database!$A$3
Name RGDBCount: Database!$E$3
Name RGTOSCount: TOS!$B$3
Name Risk_Default: Calculator!$BF$17
Name Risk_Input: Calculator!$N$24
Name Selected: Calculator!$BF$14
Name Selected_Plan: Calculator!$BF$34
Name Show_Plan: Calculator!$BF$12
Name Sign_Up: Calculator!$BF$16
Name TDU: Calculator!$F$8
Name TDU_IDd: Calculator!$BF$6
Name TDU_ZIP_rank: Calculator!$CM$2
Name Term_Max: Calculator!$J$24
Name Term_Max_Recd: Calculator!$BF$37
Name Term_Min: Calculator!$I$24
Name Term_Min_Recd: Calculator!$BF$36
Name Trend_Data: Trends!$Q$27:$AF$4134
Name Unlock_Code: Calculator!$F$36
Name Usage: Calculator!$BF$10
Name Within_Max: Calculator!$BJ$10:$BJ$21
Name Within_Plan: Calculator!$BI$10:$BI$21
Name ZIP_Code: Calculator!$B$8

Sheet Calculator
A1: ="RateGrinder - ver "& TEXT(Database!$A$3, "m/d/yy h:mma/p") & IF(NOW()>$R$1," is outdated.","") -> RateGrinder - ver 10/26/26 3:51p | R1: =Database!$C$3 -> 46323.16 | U1: by | BD1: Background Calculations: (click "+" above to view)
A2: ©2026 Power To Peruse, LLC. All Rights Reserved. | K2: Terms of Use | BE2: =Database!$A$3 -> 46321.66 | BG2: Misc: | BH2: 14 | BL2: -0.001 | BP2: =IF(ISNUMBER(Prior_Read),MONTH(Prior_Read),0) -> 0 | BS2: =30*(1-MIN(1,$BS$4/3)) -> 30 | BU2: ="<inputs="&ZIP_Code&","&Term_Min&","&Term_Max&","&Risk_Input&","&Renew_Input&","&Complaint_Input&","&BU10&","&BU11&","&BU12&","&BU13&","&BU14&","&BU15&","&BU16&","&BU17&","&BU18&","&BU19&","&BU20&","&BU21&","&BU4&", plan="&LEFT(REP_Name,4)&Plan_Length&","&INDEX(Database!$D$8:$D$360,Plan_DBRow)&","&ROUND(Rel_Date,1)&">" -> #VALUE! | BV2: =COUNTIF(Calc_inputs,">0") -> 0 | BY2: -0.1 | CA2: 0.1 | CD2: =IF(Show_Plan,"Monthly usages","") | CG2: =CG4/CI4 -> #DIV/0! | CJ2: =IF(Show_Plan,"Proj'd Usages","") | CM2: =MATCH(TDU,$CM$10:$CM$12,0) -> #N/A
BG3: Avg: | BK3: =SUMPRODUCT(BK$10:BK$21,$BQ$10:$BQ$21)/$BQ$4 -> 0.054222098 | BL3: =SUMPRODUCT(BL$10:BL$21,$BQ$10:$BQ$21)/$BQ$4 -> 0.054222098 | BQ3: =AVERAGE(BQ10:BQ21) -> 1165 | BR3: =AVERAGE(BR10:BR21) -> 1 | BS3: =AVERAGE(BS10:BS21) -> 0 | BT3: =IF(Months_Entered,AVERAGE(BT10:BT21),$BQ$3) -> 1165 | BU3: =AVERAGE(BU10:BU21) -> 1165 | BV3: =IFERROR(BV4/BV2,"") | BW3: =SUMPRODUCT(BV10:BV21,BW10:BW21)/BV4 -> #DIV/0! | BX3: =SUMPRODUCT(BV10:BV21,BX10:BX21)/BV4 -> #DIV/0! | BY3: =AVERAGE(BY10:BY21) -> 0 | BZ3: =SUMPRODUCT(BY10:BY21,BZ10:BZ21)/BY4 -> #DIV/0! | CA3: =AVERAGE(CA10:CA21) -> 0 | CB3: =SUMPRODUCT(CA10:CA21,CB10:CB21)/CA4 -> #DIV/0! | CF3: =$CF$4/$BV$2 -> #DIV/0! | CL3: =AVERAGE(CL10:CL21) -> #N/A | GT3: Today | GU3: =DATE(YEAR(Database!A3),MONTH(Database!A3),DAY(Database!A3)) -> 46321 | IE3: =IF(Show_Plan,"Extra Cost vs. Start Date","")
A4: Fill in the yellow boxes per the directions below. Click any text for help. | BG4: Sum: | BI4: =SUM(BI10:BI21) -> 12 | BJ4: =SUM(BJ10:BJ21) -> 12 | BQ4: =SUM(BQ10:BQ21) -> 13980 | BR4: =SUM(BR10:BR21) -> 12 | BS4: =SUM(BS10:BS21) -> 0 | BT4: =SUM(BT10:BT21) -> 0 | BU4: =SUM(BU10:BU21) -> 13980 | BV4: =SUM(Calc_inputs) -> 0 | BY4: =SUM(BY10:BY21) -> 0 | CA4: =SUM(CA10:CA21) -> 0 | CF4: =SUM(CF10:CF21) -> 0 | CG4: =SUM(CG10:CG21) -> 0 | CI4: =SUMPRODUCT($BI$10:$BI$21,Calc_inputs) -> 0
A6: =IF(TDU_IDd,"",$BJ$29) -> Step ①: DOUBLE-tap the yellow box, type your ZIP Code, and press Enter. | BE6: TDU selection complete | BF6: =IFERROR(AND(ISNUMBER(ZIP_Code),TDU_ZIP_rank,OR(TDU="Centerpoint",TDU="Oncor")),FALSE()) -> FALSE
BE7: TDU Area | BF7: =IF(TDU_ZIP_rank,HLOOKUP(TDU,ZIPCodes!$B$4:$I$9,6,FALSE)) -> #N/A | GT7: Switch Date | GU7: =GU3+0.5 -> 46321.5 | GV7: =GU7+1 -> 46322.5 | GW7: =GV7+1 -> 46323.5 | GX7: =GW7+1 -> 46324.5 | GY7: =GX7+1 -> 46325.5 | GZ7: =GY7+1 -> 46326.5 | HA7: =GZ7+1 -> 46327.5 | HB7: =HA7+1 -> 46328.5 | HC7: =HB7+1 -> 46329.5 | ... ID7: =IC7+1 -> 46356.5 | IE7: =IF(Show_Plan,"Start Date","")
A8: ZIP: | C8: =IF(ISBLANK(ZIP_Code),TEXT(12345,"# "),"") -> 12345 | E8: =IF(ISNUMBER(ZIPCodes!A6),"Utility:","") | F8: =IF(ISNUMBER(ZIPCodes!A6),$CM$10,"") | GT8: Cycle "Month" | GU8: =MOD(IFERROR(MATCH(GU$7,Meter_Reads,1),0),12)+1 -> 1 | GV8: =MOD(IFERROR(MATCH(GV$7,Meter_Reads,1),0),12)+1 -> 1 | GW8: =MOD(IFERROR(MATCH(GW$7,Meter_Reads,1),0),12)+1 -> 1 | GX8: =MOD(IFERROR(MATCH(GX$7,Meter_Reads,1),0),12)+1 -> 1 | GY8: =MOD(IFERROR(MATCH(GY$7,Meter_Reads,1),0),12)+1 -> 1 | GZ8: =MOD(IFERROR(MATCH(GZ$7,Meter_Reads,1),0),12)+1 -> 1 | HA8: =MOD(IFERROR(MATCH(HA$7,Meter_Reads,1),0),12)+1 -> 1 | HB8: =MOD(IFERROR(MATCH(HB$7,Meter_Reads,1),0),12)+1 -> 1 | ... ID8: =MOD(IFERROR(MATCH(ID$7,Meter_Reads,1),0),12)+1 -> 1
A9: =IF(TDU_IDd,"Usage"&IF(Show_Plan," & Costs for Plan #"&Selected_Plan," (kWh):"),"") | AG9: Rate Trend Notes: | BE9: Billing Cycle # | BF9: =IF(VLOOKUP(Prior_Read,Cycles!$B$9:$H$3122,IF(TDU="CENTERPOINT",2,IF(TDU="ONCOR",5,0)),FALSE)>0,VLOOKUP(Prior_Read,Cycles!$B$9:$H$3122,IF(TDU="CENTERPOINT",2,IF(TDU="ONCOR",5,0)),FALSE),NA()) -> #N/A | BG9: Month # | BH9: Months until EOM | BI9: Within Plan? | BJ9: Within Max? | BK9: Proj'd CP Retail | BL9: Proj'd Retail | BM9: Usage Date | BN9: Default Text | BO9: Quick Inputs | BP9: User Input | BQ9: EIA'16 TX Avg | BR9: Mon:Avg Ratio | BS9: User Input? | BT9: Adj'd Avg | BU9: Adj'd Usage | BV9: Calculator Inputs | BW9: Rate @Nom | BX9: Energy @Nom | BY9: Inputs - Spread% | BZ9: Rate @Low | CA9: Inputs + Spread% | CB9: Rate @High | CC9: Known Usage | CD9: Data Labels | CE9: Est'd Usage | CF9: Monthly Bill | CG9: Knwn Bill (flipped) | CH9: Est'd Bill (flipped) | CI9: Plan Usages | CJ9: Proj'd Usages | CK9: Meter Reads | CL9: Days / Cycle | CM9: TDU Options | GT9: Cycle "Day" | GU9: =GU$7-INDEX(Meter_Reads,MATCH(GU$7,Meter_Reads,1)) -> #N/A | GV9: =GV$7-INDEX(Meter_Reads,MATCH(GV$7,Meter_Reads,1)) -> #N/A | GW9: =GW$7-INDEX(Meter_Reads,MATCH(GW$7,Meter_Reads,1)) -> #N/A | GX9: =GX$7-INDEX(Meter_Reads,MATCH(GX$7,Meter_Reads,1)) -> #N/A | GY9: =GY$7-INDEX(Meter_Reads,MATCH(GY$7,Meter_Reads,1)) -> #N/A | GZ9: =GZ$7-INDEX(Meter_Reads,MATCH(GZ$7,Meter_Reads,1)) -> #N/A | HA9: =HA$7-INDEX(Meter_Reads,MATCH(HA$7,Meter_Reads,1)) -> #N/A | HB9: =HB$7-INDEX(Meter_Reads,MATCH(HB$7,Meter_Reads,1)) -> #N/A | ... ID9: =ID$7-INDEX(Meter_Reads,MATCH(ID$7,Meter_Reads,1)) -> #N/A
A10: Jan: | C10: =IF(ISNUMBER($B10),"",TEXT($BV10,"#,### ")) | E10: =BW10 -> 99 | AG10: 'TX Avg': Average TX residential retail price paid each month, per EIA.gov. | BE10: Usage | BF10: =AND(TDU_IDd,Months_Entered) -> FALSE | BG10: 1 | BH10: =(EOMONTH(Rel_Date+Buffer_Days,IF($BG10<MONTH(Rel_Date+Buffer_Days),12,0)+$BG10-MONTH(Rel_Date+Buffer_Days))+0-(Rel_Date+Buffer_Days))/30.4375 -> 2.7052019 | BI10: =IF($BH10>$BF$21,0,1) -> 1 | BJ10: =IF($BH10>$J$24,0,1) -> 1 | BK10: 0.058193038 | BL10: =$BK10+IF(TDU="Oncor",$BL$2,0) -> 0.058193038 | BM10: =DATE(YEAR(Rel_Date),$BG10,1) -> 46023 | BO10: =VALUE(MID($BU$2,SEARCH(TEXT(BM10,"mmm"),$BU$2)+4,SEARCH("&",$BU$2,SEARCH(TEXT(BM10,"mmm"),$BU$2))-SEARCH(TEXT(BM10,"mmm"),$BU$2)-4)) -> #VALUE! | BP10: =IF(ISNUMBER(B10),B10,"") | BQ10: 1172 | BR10: =BQ10/$BQ$3 -> 1.0060086 | BS10: =--(ISNUMBER(BP10)) -> 0 | BT10: =IF(AND(BS10,BP10),BP10/BR10) -> FALSE | BU10: =IF(BS10,ROUND(BP10,0),ROUND($BT$3*BR10,0)) -> 1172 | BV10: =IF(Moving,BQ10,IF(Months_Entered=0,$BN10,IF($BJ10,$BU10,0))) -> 0 | BW10: =IFERROR(IF($BI10,LOOKUP(BV10,$CO$23:$CS$23,$CT$23:$CX$23)+IF($CN$23="Y",SUMPRODUCT($DE$23:$DI$23-$DD$23:$DH$23,BV10-$CY$23:$DC$23,N(BV10>$CY$23:$DC$23)),BV10*LOOKUP(BV10,$CY$23:$DC$23,$DE$23:$DI$23))+IF($DL$23="Y",$DM$23,$DJ$23)+BV10*IF($DL$23="Y",$DN$23,$DK$23),$DM$23+BV10*($BL10+$DN$23+$BH$23))*100/BV10,99) -> 99 | BX10: =IFERROR($BW10-$DM$23*100/$BV10-$DN$23*100,99) -> 99 | BY10: =$BV10*(1+BY$2) -> 0 | BZ10: =IFERROR(IF($BI10,LOOKUP(BY10,$CO$23:$CS$23,$CT$23:$CX$23)+IF($CN$23="Y",SUMPRODUCT($DE$23:$DI$23-$DD$23:$DH$23,BY10-$CY$23:$DC$23,N(BY10>$CY$23:$DC$23)),BY10*LOOKUP(BY10,$CY$23:$DC$23,$DE$23:$DI$23))+IF($DL$23="Y",$DM$23,$DJ$23)+BY10*IF($DL$23="Y",$DN$23,$DK$23),$DM$23+BY10*($BL10+$DN$23+$BH$23))*100/BY10,99) -> 99 | CA10: =$BV10*(1+CA$2) -> 0 | CB10: =IFERROR(IF($BI10,LOOKUP(CA10,$CO$23:$CS$23,$CT$23:$CX$23)+IF($CN$23="Y",SUMPRODUCT($DE$23:$DI$23-$DD$23:$DH$23,CA10-$CY$23:$DC$23,N(CA10>$CY$23:$DC$23)),CA10*LOOKUP(CA10,$CY$23:$DC$23,$DE$23:$DI$23))+IF($DL$23="Y",$DM$23,$DJ$23)+CA10*IF($DL$23="Y",$DN$23,$DK$23),$DM$23+CA10*($BL10+$DN$23+$BH$23))*100/CA10,99) -> 99 | CC10: =IF(Show_Plan,IF($BS10,$BV10,NA()),NA()) -> #N/A | CD10: =IF($BJ10,LEFT(TEXT(DATE(2000,BG10,1),"mmm"),1),"") -> J | CE10: =IF(Show_Plan,IF($BS10,NA(),BV10),NA()) -> #N/A | CF10: =IFERROR(IF(Show_Plan,($BV10*$BW10)/100,""),"") | CG10: =IF(INDEX($BI$10:$BI$21,ROW(CG$21)+1-ROW()),INDEX($CF$10:$CF$21,ROW(CG$21)+1-ROW()),"") | CH10: =IF(INDEX($BI$10:$BI$21,ROW(CH$21)+1-ROW()),"",INDEX($CF$10:$CF$21,ROW(CH$21)+1-ROW())) | CI10: =IF(TDU_IDd,IF($BI10,$BV10,NA()),0) -> 0 | CJ10: =IF(TDU_IDd,IF($BI10,NA(),$BV10),0) -> 0 | CK10: =INDEX(Cycles!$B$9:$B$3122,MATCH(DATE(YEAR($BM10),MONTH($BM10),BF$9),IF(TDU="CENTERPOINT",Cycles!$E$9:$E$3122,Cycles!$H$9:$H$3122),1))+0.5 -> #N/A | CL10: =INDEX(IF(TDU="CENTERPOINT",Cycles!$D$9:$D$3122,Cycles!$G$9:$G$3122),MATCH(DATE(YEAR($BM10),MONTH($BM10),$BF$9),IF(TDU="CENTERPOINT",Cycles!$E$9:$E$3122,Cycles!$H$9:$H$3122),1)) -> #N/A | CM10: =IFERROR(INDEX(ZIPCodes!$B$4:$I$4,MATCH($BG10,ZIPCodes!$B$6:$I$6,0)),"Invalid TDU (don't pick)") -> Invalid TDU (don't pick) | GT10: Days / Month | GU10: =INDEX(Days_Per_Cycle,MATCH(GU$7,Meter_Reads,1)+1) -> #N/A | GV10: =INDEX(Days_Per_Cycle,MATCH(GV$7,Meter_Reads,1)+1) -> #N/A | GW10: =INDEX(Days_Per_Cycle,MATCH(GW$7,Meter_Reads,1)+1) -> #N/A | GX10: =INDEX(Days_Per_Cycle,MATCH(GX$7,Meter_Reads,1)+1) -> #N/A | GY10: =INDEX(Days_Per_Cycle,MATCH(GY$7,Meter_Reads,1)+1) -> #N/A | GZ10: =INDEX(Days_Per_Cycle,MATCH(GZ$7,Meter_Reads,1)+1) -> #N/A | HA10: =INDEX(Days_Per_Cycle,MATCH(HA$7,Meter_Reads,1)+1) -> #N/A | HB10: =INDEX(Days_Per_Cycle,MATCH(HB$7,Meter_Reads,1)+1) -> #N/A | ... ID10: =INDEX(Days_Per_Cycle,MATCH(ID$7,Meter_Reads,1)+1) -> #N/A
A11: Feb: | C11: =IF(ISNUMBER($B11),"",TEXT($BV11,"#,### ")) | E11: =BW11 -> 99 | AG11: 'Fixed' rates (3/6/12/24-month contract): Cheapest non-tiered offer for a linearly-scaled EIA 2016 TX avg load profile. | BE11: Moving? | BF11: =AND(Months_Entered=1,$BT$3=$BQ$3) -> FALSE | BG11: 2 | BH11: =(EOMONTH(Rel_Date+Buffer_Days,IF($BG11<MONTH(Rel_Date+Buffer_Days),12,0)+$BG11-MONTH(Rel_Date+Buffer_Days))+0-(Rel_Date+Buffer_Days))/30.4375 -> 3.6251198 | BI11: =IF($BH11>$BF$21,0,1) -> 1 | BJ11: =IF($BH11>$J$24,0,1) -> 1 | BK11: 0.058109663 | BL11: =$BK11+IF(TDU="Oncor",$BL$2,0) -> 0.058109663 | BM11: =EOMONTH(BM$10,BG11-2)+1 -> 46054 | BO11: =VALUE(MID($BU$2,SEARCH(TEXT(BM11,"mmm"),$BU$2)+4,SEARCH("&",$BU$2,SEARCH(TEXT(BM11,"mmm"),$BU$2))-SEARCH(TEXT(BM11,"mmm"),$BU$2)-4)) -> #VALUE! | BP11: =IF(ISNUMBER(B11),B11,"") | BQ11: 999 | BR11: =BQ11/$BQ$3 -> 0.85751073 | BS11: =--(ISNUMBER(BP11)) -> 0 | BT11: =IF(AND(BS11,BP11),BP11/BR11) -> FALSE | BU11: =IF(BS11,ROUND(BP11,0),ROUND($BT$3*BR11,0)) -> 999 | BV11: =IF(Moving,BQ11,IF(Months_Entered=0,$BN11,IF($BJ11,$BU11,0))) -> 0 | BW11: =IFERROR(IF($BI11,LOOKUP(BV11,$CO$23:$CS$23,$CT$23:$CX$23)+IF($CN$23="Y",SUMPRODUCT($DE$23:$DI$23-$DD$23:$DH$23,BV11-$CY$23:$DC$23,N(BV11>$CY$23:$DC$23)),BV11*LOOKUP(BV11,$CY$23:$DC$23,$DE$23:$DI$23))+IF($DL$23="Y",$DM$23,$DJ$23)+BV11*IF($DL$23="Y",$DN$23,$DK$23),$DM$23+BV11*($BL11+$DN$23+$BH$23))*100/BV11,99) -> 99 | BX11: =IFERROR($BW11-$DM$23*100/$BV11-$DN$23*100,99) -> 99 | BY11: =$BV11*(1+BY$2) -> 0 | BZ11: =IFERROR(IF($BI11,LOOKUP(BY11,$CO$23:$CS$23,$CT$23:$CX$23)+IF($CN$23="Y",SUMPRODUCT($DE$23:$DI$23-$DD$23:$DH$23,BY11-$CY$23:$DC$23,N(BY11>$CY$23:$DC$23)),BY11*LOOKUP(BY11,$CY$23:$DC$23,$DE$23:$DI$23))+IF($DL$23="Y",$DM$23,$DJ$23)+BY11*IF($DL$23="Y",$DN$23,$DK$23),$DM$23+BY11*($BL11+$DN$23+$BH$23))*100/BY11,99) -> 99 | CA11: =$BV11*(1+CA$2) -> 0 | CB11: =IFERROR(IF($BI11,LOOKUP(CA11,$CO$23:$CS$23,$CT$23:$CX$23)+IF($CN$23="Y",SUMPRODUCT($DE$23:$DI$23-$DD$23:$DH$23,CA11-$CY$23:$DC$23,N(CA11>$CY$23:$DC$23)),CA11*LOOKUP(CA11,$CY$23:$DC$23,$DE$23:$DI$23))+IF($DL$23="Y",$DM$23,$DJ$23)+CA11*IF($DL$23="Y",$DN$23,$DK$23),$DM$23+CA11*($BL11+$DN$23+$BH$23))*100/CA11,99) -> 99 | CC11: =IF(Show_Plan,IF($BS11,$BV11,NA()),NA()) -> #N/A | CD11: =IF($BJ11,LEFT(TEXT(DATE(2000,BG11,1),"mmm"),1),"") -> F | CE11: =IF(Show_Plan,IF($BS11,NA(),BV11),NA()) -> #N/A | CF11: =IFERROR(IF(Show_Plan,($BV11*$BW11)/100,""),"") | CG11: =IF(INDEX($BI$10:$BI$21,ROW(CG$21)+1-ROW()),INDEX($CF$10:$CF$21,ROW(CG$21)+1-ROW()),"") | CH11: =IF(INDEX($BI$10:$BI$21,ROW(CH$21)+1-ROW()),"",INDEX($CF$10:$CF$21,ROW(CH$21)+1-ROW())) | CI11: =IF(TDU_IDd,IF($BI11,$BV11,NA()),0) -> 0 | CJ11: =IF(TDU_IDd,IF($BI11,NA(),$BV11),0) -> 0 | CK11: =INDEX(Cycles!$B$9:$B$3122,MATCH(DATE(YEAR($BM11),MONTH($BM11),BF$9),IF(TDU="CENTERPOINT",Cycles!$E$9:$E$3122,Cycles!$H$9:$H$3122),1))+0.5 -> #N/A | CL11: =INDEX(IF(TDU="CENTERPOINT",Cycles!$D$9:$D$3122,Cycles!$G$9:$G$3122),MATCH(DATE(YEAR($BM11),MONTH($BM11),$BF$9),IF(TDU="CENTERPOINT",Cycles!$E$9:$E$3122,Cycles!$H$9:$H$3122),1)) -> #N/A | CM11: =IFERROR(INDEX(ZIPCodes!$B$4:$I$4,MATCH($BG11,ZIPCodes!$B$6:$I$6,0)),"Invalid TDU (don't pick)") -> Invalid TDU (don't pick) | GT11: Usage / Month | GU11: =INDEX(Calc_inputs,GU$8) -> 0 | GV11: =INDEX(Calc_inputs,GV$8) -> 0 | GW11: =INDEX(Calc_inputs,GW$8) -> 0 | GX11: =INDEX(Calc_inputs,GX$8) -> 0 | GY11: =INDEX(Calc_inputs,GY$8) -> 0 | GZ11: =INDEX(Calc_inputs,GZ$8) -> 0 | HA11: =INDEX(Calc_inputs,HA$8) -> 0 | HB11: =INDEX(Calc_inputs,HB$8) -> 0 | ... ID11: =INDEX(Calc_inputs,ID$8) -> 0
A12: Mar: | C12: =IF(ISNUMBER($B12),"",TEXT($BV12,"#,### ")) | E12: =BW12 -> 99 | AG12: 'Real Time Wholesale': Assumes Backcasted Avg Load Profile, RTSPP+15% (AncServ), initial TDU charges, 9.99/mo, and 2.5%+25¢ /payment. | BE12: Show plan? | BF12: =AND(Usage,Selected) -> FALSE | BG12: 3 | BH12: =(EOMONTH(Rel_Date+Buffer_Days,IF($BG12<MONTH(Rel_Date+Buffer_Days),12,0)+$BG12-MONTH(Rel_Date+Buffer_Days))+0-(Rel_Date+Buffer_Days))/30.4375 -> 4.6436003 | BI12: =IF($BH12>$BF$21,0,1) -> 1 | BJ12: =IF($BH12>$J$24,0,1) -> 1 | BK12: 0.040139775 | BL12: =$BK12+IF(TDU="Oncor",$BL$2,0) -> 0.040139775 | BM12: =EOMONTH(BM$10,BG12-2)+1 -> 46082 | BO12: =VALUE(MID($BU$2,SEARCH(TEXT(BM12,"mmm"),$BU$2)+4,SEARCH("&",$BU$2,SEARCH(TEXT(BM12,"mmm"),$BU$2))-SEARCH(TEXT(BM12,"mmm"),$BU$2)-4)) -> #VALUE! | BP12: =IF(ISNUMBER(B12),B12,"") | BQ12: 840 | BR12: =BQ12/$BQ$3 -> 0.72103004 | BS12: =--(ISNUMBER(BP12)) -> 0 | BT12: =IF(AND(BS12,BP12),BP12/BR12) -> FALSE | BU12: =IF(BS12,ROUND(BP12,0),ROUND($BT$3*BR12,0)) -> 840 | BV12: =IF(Moving,BQ12,IF(Months_Entered=0,$BN12,IF($BJ12,$BU12,0))) -> 0 | BW12: =IFERROR(IF($BI12,LOOKUP(BV12,$CO$23:$CS$23,$CT$23:$CX$23)+IF($CN$23="Y",SUMPRODUCT($DE$23:$DI$23-$DD$23:$DH$23,BV12-$CY$23:$DC$23,N(BV12>$CY$23:$DC$23)),BV12*LOOKUP(BV12,$CY$23:$DC$23,$DE$23:$DI$23))+IF($DL$23="Y",$DM$23,$DJ$23)+BV12*IF($DL$23="Y",$DN$23,$DK$23),$DM$23+BV12*($BL12+$DN$23+$BH$23))*100/BV12,99) -> 99 | BX12: =IFERROR($BW12-$DM$23*100/$BV12-$DN$23*100,99) -> 99 | BY12: =$BV12*(1+BY$2) -> 0 | BZ12: =IFERROR(IF($BI12,LOOKUP(BY12,$CO$23:$CS$23,$CT$23:$CX$23)+IF($CN$23="Y",SUMPRODUCT($DE$23:$DI$23-$DD$23:$DH$23,BY12-$CY$23:$DC$23,N(BY12>$CY$23:$DC$23)),BY12*LOOKUP(BY12,$CY$23:$DC$23,$DE$23:$DI$23))+IF($DL$23="Y",$DM$23,$DJ$23)+BY12*IF($DL$23="Y",$DN$23,$DK$23),$DM$23+BY12*($BL12+$DN$23+$BH$23))*100/BY12,99) -> 99 | CA12: =$BV12*(1+CA$2) -> 0 | CB12: =IFERROR(IF($BI12,LOOKUP(CA12,$CO$23:$CS$23,$CT$23:$CX$23)+IF($CN$23="Y",SUMPRODUCT($DE$23:$DI$23-$DD$23:$DH$23,CA12-$CY$23:$DC$23,N(CA12>$CY$23:$DC$23)),CA12*LOOKUP(CA12,$CY$23:$DC$23,$DE$23:$DI$23))+IF($DL$23="Y",$DM$23,$DJ$23)+CA12*IF($DL$23="Y",$DN$23,$DK$23),$DM$23+CA12*($BL12+$DN$23+$BH$23))*100/CA12,99) -> 99 | CC12: =IF(Show_Plan,IF($BS12,$BV12,NA()),NA()) -> #N/A | CD12: =IF($BJ12,LEFT(TEXT(DATE(2000,BG12,1),"mmm"),1),"") -> M | CE12: =IF(Show_Plan,IF($BS12,NA(),BV12),NA()) -> #N/A | CF12: =IFERROR(IF(Show_Plan,($BV12*$BW12)/100,""),"") | CG12: =IF(INDEX($BI$10:$BI$21,ROW(CG$21)+1-ROW()),INDEX($CF$10:$CF$21,ROW(CG$21)+1-ROW()),"") | CH12: =IF(INDEX($BI$10:$BI$21,ROW(CH$21)+1-ROW()),"",INDEX($CF$10:$CF$21,ROW(CH$21)+1-ROW())) | CI12: =IF(TDU_IDd,IF($BI12,$BV12,NA()),0) -> 0 | CJ12: =IF(TDU_IDd,IF($BI12,NA(),$BV12),0) -> 0 | CK12: =INDEX(Cycles!$B$9:$B$3122,MATCH(DATE(YEAR($BM12),MONTH($BM12),BF$9),IF(TDU="CENTERPOINT",Cycles!$E$9:$E$3122,Cycles!$H$9:$H$3122),1))+0.5 -> #N/A | CL12: =INDEX(IF(TDU="CENTERPOINT",Cycles!$D$9:$D$3122,Cycles!$G$9:$G$3122),MATCH(DATE(YEAR($BM12),MONTH($BM12),$BF$9),IF(TDU="CENTERPOINT",Cycles!$E$9:$E$3122,Cycles!$H$9:$H$3122),1)) -> #N/A | CM12: =IFERROR(INDEX(ZIPCodes!$B$4:$I$4,MATCH($BG12,ZIPCodes!$B$6:$I$6,0)),"Invalid TDU (don't pick)") -> Invalid TDU (don't pick) | GT12: Billing / Full Month | GU12: =IF(GU11>0,LOOKUP(GU11,$CO$23:$CS$23,$CT$23:$CX$23)+IF($CN$23="Y",SUMPRODUCT($DE$23:$DI$23-$DD$23:$DH$23,GU11-$CY$23:$DC$23,N(GU11>$CY$23:$DC$23)),GU11*LOOKUP(GU11,$CY$23:$DC$23,$DE$23:$DI$23))+IF($DL$23="Y",$DM$23,$DJ$23)+GU11*IF($DL$23="Y",$DN$23,$DK$23),0) -> 0 | GV12: =IF(GV11>0,LOOKUP(GV11,$CO$23:$CS$23,$CT$23:$CX$23)+IF($CN$23="Y",SUMPRODUCT($DE$23:$DI$23-$DD$23:$DH$23,GV11-$CY$23:$DC$23,N(GV11>$CY$23:$DC$23)),GV11*LOOKUP(GV11,$CY$23:$DC$23,$DE$23:$DI$23))+IF($DL$23="Y",$DM$23,$DJ$23)+GV11*IF($DL$23="Y",$DN$23,$DK$23),0) -> 0 | GW12: =IF(GW11>0,LOOKUP(GW11,$CO$23:$CS$23,$CT$23:$CX$23)+IF($CN$23="Y",SUMPRODUCT($DE$23:$DI$23-$DD$23:$DH$23,GW11-$CY$23:$DC$23,N(GW11>$CY$23:$DC$23)),GW11*LOOKUP(GW11,$CY$23:$DC$23,$DE$23:$DI$23))+IF($DL$23="Y",$DM$23,$DJ$23)+GW11*IF($DL$23="Y",$DN$23,$DK$23),0) -> 0 | GX12: =IF(GX11>0,LOOKUP(GX11,$CO$23:$CS$23,$CT$23:$CX$23)+IF($CN$23="Y",SUMPRODUCT($DE$23:$DI$23-$DD$23:$DH$23,GX11-$CY$23:$DC$23,N(GX11>$CY$23:$DC$23)),GX11*LOOKUP(GX11,$CY$23:$DC$23,$DE$23:$DI$23))+IF($DL$23="Y",$DM$23,$DJ$23)+GX11*IF($DL$23="Y",$DN$23,$DK$23),0) -> 0 | GY12: =IF(GY11>0,LOOKUP(GY11,$CO$23:$CS$23,$CT$23:$CX$23)+IF($CN$23="Y",SUMPRODUCT($DE$23:$DI$23-$DD$23:$DH$23,GY11-$CY$23:$DC$23,N(GY11>$CY$23:$DC$23)),GY11*LOOKUP(GY11,$CY$23:$DC$23,$DE$23:$DI$23))+IF($DL$23="Y",$DM$23,$DJ$23)+GY11*IF($DL$23="Y",$DN$23,$DK$23),0) -> 0 | GZ12: =IF(GZ11>0,LOOKUP(GZ11,$CO$23:$CS$23,$CT$23:$CX$23)+IF($CN$23="Y",SUMPRODUCT($DE$23:$DI$23-$DD$23:$DH$23,GZ11-$CY$23:$DC$23,N(GZ11>$CY$23:$DC$23)),GZ11*LOOKUP(GZ11,$CY$23:$DC$23,$DE$23:$DI$23))+IF($DL$23="Y",$DM$23,$DJ$23)+GZ11*IF($DL$23="Y",$DN$23,$DK$23),0) -> 0 | HA12: =IF(HA11>0,LOOKUP(HA11,$CO$23:$CS$23,$CT$23:$CX$23)+IF($CN$23="Y",SUMPRODUCT($DE$23:$DI$23-$DD$23:$DH$23,HA11-$CY$23:$DC$23,N(HA11>$CY$23:$DC$23)),HA11*LOOKUP(HA11,$CY$23:$DC$23,$DE$23:$DI$23))+IF($DL$23="Y",$DM$23,$DJ$23)+HA11*IF($DL$23="Y",$DN$23,$DK$23),0) -> 0 | HB12: =IF(HB11>0,LOOKUP(HB11,$CO$23:$CS$23,$CT$23:$CX$23)+IF($CN$23="Y",SUMPRODUCT($DE$23:$DI$23-$DD$23:$DH$23,HB11-$CY$23:$DC$23,N(HB11>$CY$23:$DC$23)),HB11*LOOKUP(HB11,$CY$23:$DC$23,$DE$23:$DI$23))+IF($DL$23="Y",$DM$23,$DJ$23)+HB11*IF($DL$23="Y",$DN$23,$DK$23),0) -> 0 | ... ID12: =IF(ID11>0,LOOKUP(ID11,$CO$23:$CS$23,$CT$23:$CX$23)+IF($CN$23="Y",SUMPRODUCT($DE$23:$DI$23-$DD$23:$DH$23,ID11-$CY$23:$DC$23,N(ID11>$CY$23:$DC$23)),ID11*LOOKUP(ID11,$CY$23:$DC$23,$DE$23:$DI$23))+IF($DL$23="Y",$DM$23,$DJ$23)+ID11*IF($DL$23="Y",$DN$23,$DK$23),0) -> 0
A13: Apr: | C13: =IF(ISNUMBER($B13),"",TEXT($BV13,"#,### ")) | E13: =BW13 -> 99 | BE13: Pick a Plan? | BF13: =AND(TDU_IDd,Usage) -> FALSE | BG13: 4 | BH13: =(EOMONTH(Rel_Date+Buffer_Days,IF($BG13<MONTH(Rel_Date+Buffer_Days),12,0)+$BG13-MONTH(Rel_Date+Buffer_Days))+0-(Rel_Date+Buffer_Days))/30.4375 -> 5.6292266 | BI13: =IF($BH13>$BF$21,0,1) -> 1 | BJ13: =IF($BH13>$J$24,0,1) -> 1 | BK13: 0.04602775 | BL13: =$BK13+IF(TDU="Oncor",$BL$2,0) -> 0.04602775 | BM13: =EOMONTH(BM$10,BG13-2)+1 -> 46113 | BO13: =VALUE(MID($BU$2,SEARCH(TEXT(BM13,"mmm"),$BU$2)+4,SEARCH("&",$BU$2,SEARCH(TEXT(BM13,"mmm"),$BU$2))-SEARCH(TEXT(BM13,"mmm"),$BU$2)-4)) -> #VALUE! | BP13: =IF(ISNUMBER(B13),B13,"") | BQ13: 815 | BR13: =BQ13/$BQ$3 -> 0.69957082 | BS13: =--(ISNUMBER(BP13)) -> 0 | BT13: =IF(AND(BS13,BP13),BP13/BR13) -> FALSE | BU13: =IF(BS13,ROUND(BP13,0),ROUND($BT$3*BR13,0)) -> 815 | BV13: =IF(Moving,BQ13,IF(Months_Entered=0,$BN13,IF($BJ13,$BU13,0))) -> 0 | BW13: =IFERROR(IF($BI13,LOOKUP(BV13,$CO$23:$CS$23,$CT$23:$CX$23)+IF($CN$23="Y",SUMPRODUCT($DE$23:$DI$23-$DD$23:$DH$23,BV13-$CY$23:$DC$23,N(BV13>$CY$23:$DC$23)),BV13*LOOKUP(BV13,$CY$23:$DC$23,$DE$23:$DI$23))+IF($DL$23="Y",$DM$23,$DJ$23)+BV13*IF($DL$23="Y",$DN$23,$DK$23),$DM$23+BV13*($BL13+$DN$23+$BH$23))*100/BV13,99) -> 99 | BX13: =IFERROR($BW13-$DM$23*100/$BV13-$DN$23*100,99) -> 99 | BY13: =$BV13*(1+BY$2) -> 0 | BZ13: =IFERROR(IF($BI13,LOOKUP(BY13,$CO$23:$CS$23,$CT$23:$CX$23)+IF($CN$23="Y",SUMPRODUCT($DE$23:$DI$23-$DD$23:$DH$23,BY13-$CY$23:$DC$23,N(BY13>$CY$23:$DC$23)),BY13*LOOKUP(BY13,$CY$23:$DC$23,$DE$23:$DI$23))+IF($DL$23="Y",$DM$23,$DJ$23)+BY13*IF($DL$23="Y",$DN$23,$DK$23),$DM$23+BY13*($BL13+$DN$23+$BH$23))*100/BY13,99) -> 99 | CA13: =$BV13*(1+CA$2) -> 0 | CB13: =IFERROR(IF($BI13,LOOKUP(CA13,$CO$23:$CS$23,$CT$23:$CX$23)+IF($CN$23="Y",SUMPRODUCT($DE$23:$DI$23-$DD$23:$DH$23,CA13-$CY$23:$DC$23,N(CA13>$CY$23:$DC$23)),CA13*LOOKUP(CA13,$CY$23:$DC$23,$DE$23:$DI$23))+IF($DL$23="Y",$DM$23,$DJ$23)+CA13*IF($DL$23="Y",$DN$23,$DK$23),$DM$23+CA13*($BL13+$DN$23+$BH$23))*100/CA13,99) -> 99 | CC13: =IF(Show_Plan,IF($BS13,$BV13,NA()),NA()) -> #N/A | CD13: =IF($BJ13,LEFT(TEXT(DATE(2000,BG13,1),"mmm"),1),"") -> A | CE13: =IF(Show_Plan,IF($BS13,NA(),BV13),NA()) -> #N/A | CF13: =IFERROR(IF(Show_Plan,($BV13*$BW13)/100,""),"") | CG13: =IF(INDEX($BI$10:$BI$21,ROW(CG$21)+1-ROW()),INDEX($CF$10:$CF$21,ROW(CG$21)+1-ROW()),"") | CH13: =IF(INDEX($BI$10:$BI$21,ROW(CH$21)+1-ROW()),"",INDEX($CF$10:$CF$21,ROW(CH$21)+1-ROW())) | CI13: =IF(TDU_IDd,IF($BI13,$BV13,NA()),0) -> 0 | CJ13: =IF(TDU_IDd,IF($BI13,NA(),$BV13),0) -> 0 | CK13: =INDEX(Cycles!$B$9:$B$3122,MATCH(DATE(YEAR($BM13),MONTH($BM13),BF$9),IF(TDU="CENTERPOINT",Cycles!$E$9:$E$3122,Cycles!$H$9:$H$3122),1))+0.5 -> #N/A | CL13: =INDEX(IF(TDU="CENTERPOINT",Cycles!$D$9:$D$3122,Cycles!$G$9:$G$3122),MATCH(DATE(YEAR($BM13),MONTH($BM13),$BF$9),IF(TDU="CENTERPOINT",Cycles!$E$9:$E$3122,Cycles!$H$9:$H$3122),1)) -> #N/A | GT13: Prorated Usage, to EOM | GU13: =GU11*(GU10-GU9)/GU10 -> #N/A | GV13: =GV11*(GV10-GV9)/GV10 -> #N/A | GW13: =GW11*(GW10-GW9)/GW10 -> #N/A | GX13: =GX11*(GX10-GX9)/GX10 -> #N/A | GY13: =GY11*(GY10-GY9)/GY10 -> #N/A | GZ13: =GZ11*(GZ10-GZ9)/GZ10 -> #N/A | HA13: =HA11*(HA10-HA9)/HA10 -> #N/A | HB13: =HB11*(HB10-HB9)/HB10 -> #N/A | ... ID13: =ID11*(ID10-ID9)/ID10 -> #N/A
A14: May: | C14: =IF(ISNUMBER($B14),"",TEXT($BV14,"#,### ")) | E14: =BW14 -> 99 | AG14: All benchmarks latch the TDU rates in effect at the start of the contract period. | BE14: Valid plan selected? | BF14: =IF(ISNUMBER(Selected_Plan),IF(ISNUMBER(INDEX($L$26:$L$35,MATCH(Selected_Plan,$A$26:$A$35,0))),TRUE,FALSE),FALSE) -> FALSE | BG14: 5 | BH14: =(EOMONTH(Rel_Date+Buffer_Days,IF($BG14<MONTH(Rel_Date+Buffer_Days),12,0)+$BG14-MONTH(Rel_Date+Buffer_Days))+0-(Rel_Date+Buffer_Days))/30.4375 -> 6.647707 | BI14: =IF($BH14>$BF$21,0,1) -> 1 | BJ14: =IF($BH14>$J$24,0,1) -> 1 | BK14: 0.044013012 | BL14: =$BK14+IF(TDU="Oncor",$BL$2,0) -> 0.044013012 | BM14: =EOMONTH(BM$10,BG14-2)+1 -> 46143 | BO14: =VALUE(MID($BU$2,SEARCH(TEXT(BM14,"mmm"),$BU$2)+4,SEARCH("&",$BU$2,SEARCH(TEXT(BM14,"mmm"),$BU$2))-SEARCH(TEXT(BM14,"mmm"),$BU$2)-4)) -> #VALUE! | BP14: =IF(ISNUMBER(B14),B14,"") | BQ14: 954 | BR14: =BQ14/$BQ$3 -> 0.81888412 | BS14: =--(ISNUMBER(BP14)) -> 0 | BT14: =IF(AND(BS14,BP14),BP14/BR14) -> FALSE | BU14: =IF(BS14,ROUND(BP14,0),ROUND($BT$3*BR14,0)) -> 954 | BV14: =IF(Moving,BQ14,IF(Months_Entered=0,$BN14,IF($BJ14,$BU14,0))) -> 0 | BW14: =IFERROR(IF($BI14,LOOKUP(BV14,$CO$23:$CS$23,$CT$23:$CX$23)+IF($CN$23="Y",SUMPRODUCT($DE$23:$DI$23-$DD$23:$DH$23,BV14-$CY$23:$DC$23,N(BV14>$CY$23:$DC$23)),BV14*LOOKUP(BV14,$CY$23:$DC$23,$DE$23:$DI$23))+IF($DL$23="Y",$DM$23,$DJ$23)+BV14*IF($DL$23="Y",$DN$23,$DK$23),$DM$23+BV14*($BL14+$DN$23+$BH$23))*100/BV14,99) -> 99 | BX14: =IFERROR($BW14-$DM$23*100/$BV14-$DN$23*100,99) -> 99 | BY14: =$BV14*(1+BY$2) -> 0 | BZ14: =IFERROR(IF($BI14,LOOKUP(BY14,$CO$23:$CS$23,$CT$23:$CX$23)+IF($CN$23="Y",SUMPRODUCT($DE$23:$DI$23-$DD$23:$DH$23,BY14-$CY$23:$DC$23,N(BY14>$CY$23:$DC$23)),BY14*LOOKUP(BY14,$CY$23:$DC$23,$DE$23:$DI$23))+IF($DL$23="Y",$DM$23,$DJ$23)+BY14*IF($DL$23="Y",$DN$23,$DK$23),$DM$23+BY14*($BL14+$DN$23+$BH$23))*100/BY14,99) -> 99 | CA14: =$BV14*(1+CA$2) -> 0 | CB14: =IFERROR(IF($BI14,LOOKUP(CA14,$CO$23:$CS$23,$CT$23:$CX$23)+IF($CN$23="Y",SUMPRODUCT($DE$23:$DI$23-$DD$23:$DH$23,CA14-$CY$23:$DC$23,N(CA14>$CY$23:$DC$23)),CA14*LOOKUP(CA14,$CY$23:$DC$23,$DE$23:$DI$23))+IF($DL$23="Y",$DM$23,$DJ$23)+CA14*IF($DL$23="Y",$DN$23,$DK$23),$DM$23+CA14*($BL14+$DN$23+$BH$23))*100/CA14,99) -> 99 | CC14: =IF(Show_Plan,IF($BS14,$BV14,NA()),NA()) -> #N/A | CD14: =IF($BJ14,LEFT(TEXT(DATE(2000,BG14,1),"mmm"),1),"") -> M | CE14: =IF(Show_Plan,IF($BS14,NA(),BV14),NA()) -> #N/A | CF14: =IFERROR(IF(Show_Plan,($BV14*$BW14)/100,""),"") | CG14: =IF(INDEX($BI$10:$BI$21,ROW(CG$21)+1-ROW()),INDEX($CF$10:$CF$21,ROW(CG$21)+1-ROW()),"") | CH14: =IF(INDEX($BI$10:$BI$21,ROW(CH$21)+1-ROW()),"",INDEX($CF$10:$CF$21,ROW(CH$21)+1-ROW())) | CI14: =IF(TDU_IDd,IF($BI14,$BV14,NA()),0) -> 0 | CJ14: =IF(TDU_IDd,IF($BI14,NA(),$BV14),0) -> 0 | CK14: =INDEX(Cycles!$B$9:$B$3122,MATCH(DATE(YEAR($BM14),MONTH($BM14),BF$9),IF(TDU="CENTERPOINT",Cycles!$E$9:$E$3122,Cycles!$H$9:$H$3122),1))+0.5 -> #N/A | CL14: =INDEX(IF(TDU="CENTERPOINT",Cycles!$D$9:$D$3122,Cycles!$G$9:$G$3122),MATCH(DATE(YEAR($BM14),MONTH($BM14),$BF$9),IF(TDU="CENTERPOINT",Cycles!$E$9:$E$3122,Cycles!$H$9:$H$3122),1)) -> #N/A | GT14: Billing, to EOM | GU14: =IF(GU13>0,LOOKUP(GU13,$CO$23:$CS$23,$CT$23:$CX$23)+IF($CN$23="Y",SUMPRODUCT($DE$23:$DI$23-$DD$23:$DH$23,GU13-$CY$23:$DC$23,N(GU13>$CY$23:$DC$23)),GU13*LOOKUP(GU13,$CY$23:$DC$23,$DE$23:$DI$23))+IF($DL$23="Y",$DM$23,$DJ$23)*(GU$10-GU$9)/GU$10+GU13*IF($DL$23="Y",$DN$23,$DK$23),0) -> #N/A | GV14: =IF(GV13>0,LOOKUP(GV13,$CO$23:$CS$23,$CT$23:$CX$23)+IF($CN$23="Y",SUMPRODUCT($DE$23:$DI$23-$DD$23:$DH$23,GV13-$CY$23:$DC$23,N(GV13>$CY$23:$DC$23)),GV13*LOOKUP(GV13,$CY$23:$DC$23,$DE$23:$DI$23))+IF($DL$23="Y",$DM$23,$DJ$23)*(GV$10-GV$9)/GV$10+GV13*IF($DL$23="Y",$DN$23,$DK$23),0) -> #N/A | GW14: =IF(GW13>0,LOOKUP(GW13,$CO$23:$CS$23,$CT$23:$CX$23)+IF($CN$23="Y",SUMPRODUCT($DE$23:$DI$23-$DD$23:$DH$23,GW13-$CY$23:$DC$23,N(GW13>$CY$23:$DC$23)),GW13*LOOKUP(GW13,$CY$23:$DC$23,$DE$23:$DI$23))+IF($DL$23="Y",$DM$23,$DJ$23)*(GW$10-GW$9)/GW$10+GW13*IF($DL$23="Y",$DN$23,$DK$23),0) -> #N/A | GX14: =IF(GX13>0,LOOKUP(GX13,$CO$23:$CS$23,$CT$23:$CX$23)+IF($CN$23="Y",SUMPRODUCT($DE$23:$DI$23-$DD$23:$DH$23,GX13-$CY$23:$DC$23,N(GX13>$CY$23:$DC$23)),GX13*LOOKUP(GX13,$CY$23:$DC$23,$DE$23:$DI$23))+IF($DL$23="Y",$DM$23,$DJ$23)*(GX$10-GX$9)/GX$10+GX13*IF($DL$23="Y",$DN$23,$DK$23),0) -> #N/A | GY14: =IF(GY13>0,LOOKUP(GY13,$CO$23:$CS$23,$CT$23:$CX$23)+IF($CN$23="Y",SUMPRODUCT($DE$23:$DI$23-$DD$23:$DH$23,GY13-$CY$23:$DC$23,N(GY13>$CY$23:$DC$23)),GY13*LOOKUP(GY13,$CY$23:$DC$23,$DE$23:$DI$23))+IF($DL$23="Y",$DM$23,$DJ$23)*(GY$10-GY$9)/GY$10+GY13*IF($DL$23="Y",$DN$23,$DK$23),0) -> #N/A | GZ14: =IF(GZ13>0,LOOKUP(GZ13,$CO$23:$CS$23,$CT$23:$CX$23)+IF($CN$23="Y",SUMPRODUCT($DE$23:$DI$23-$DD$23:$DH$23,GZ13-$CY$23:$DC$23,N(GZ13>$CY$23:$DC$23)),GZ13*LOOKUP(GZ13,$CY$23:$DC$23,$DE$23:$DI$23))+IF($DL$23="Y",$DM$23,$DJ$23)*(GZ$10-GZ$9)/GZ$10+GZ13*IF($DL$23="Y",$DN$23,$DK$23),0) -> #N/A | HA14: =IF(HA13>0,LOOKUP(HA13,$CO$23:$CS$23,$CT$23:$CX$23)+IF($CN$23="Y",SUMPRODUCT($DE$23:$DI$23-$DD$23:$DH$23,HA13-$CY$23:$DC$23,N(HA13>$CY$23:$DC$23)),HA13*LOOKUP(HA13,$CY$23:$DC$23,$DE$23:$DI$23))+IF($DL$23="Y",$DM$23,$DJ$23)*(HA$10-HA$9)/HA$10+HA13*IF($DL$23="Y",$DN$23,$DK$23),0) -> #N/A | HB14: =IF(HB13>0,LOOKUP(HB13,$CO$23:$CS$23,$CT$23:$CX$23)+IF($CN$23="Y",SUMPRODUCT($DE$23:$DI$23-$DD$23:$DH$23,HB13-$CY$23:$DC$23,N(HB13>$CY$23:$DC$23)),HB13*LOOKUP(HB13,$CY$23:$DC$23,$DE$23:$DI$23))+IF($DL$23="Y",$DM$23,$DJ$23)*(HB$10-HB$9)/HB$10+HB13*IF($DL$23="Y",$DN$23,$DK$23),0) -> #N/A | ... ID14: =IF(ID13>0,LOOKUP(ID13,$CO$23:$CS$23,$CT$23:$CX$23)+IF($CN$23="Y",SUMPRODUCT($DE$23:$DI$23-$DD$23:$DH$23,ID13-$CY$23:$DC$23,N(ID13>$CY$23:$DC$23)),ID13*LOOKUP(ID13,$CY$23:$DC$23,$DE$23:$DI$23))+IF($DL$23="Y",$DM$23,$DJ$23)*(ID$10-ID$9)/ID$10+ID13*IF($DL$23="Y",$DN$23,$DK$23),0) -> #N/A
A15: Jun: | C15: =IF(ISNUMBER($B15),"",TEXT($BV15,"#,### ")) | E15: =BW15 -> 99 | T15: =IF(Show_Plan,IF(Locked,"",IF(Meter_Needed,"Date-Sensitive Plan!","When To Switch:")),"") | AG15: 'Real Time Wholesale' and 'Avg Paid' benchmarks lag in time due to their market dependencies. | BE15: Show more plans? | BF15: =AND(TDU_IDd,OR(Usage,Moving)) -> FALSE | BG15: 6 | BH15: =(EOMONTH(Rel_Date+Buffer_Days,IF($BG15<MONTH(Rel_Date+Buffer_Days),12,0)+$BG15-MONTH(Rel_Date+Buffer_Days))+0-(Rel_Date+Buffer_Days))/30.4375 -> 7.6333333 | BI15: =IF($BH15>$BF$21,0,1) -> 1 | BJ15: =IF($BH15>$J$24,0,1) -> 1 | BK15: 0.050071012 | BL15: =$BK15+IF(TDU="Oncor",$BL$2,0) -> 0.050071012 | BM15: =EOMONTH(BM$10,BG15-2)+1 -> 46174 | BO15: =VALUE(MID($BU$2,SEARCH(TEXT(BM15,"mmm"),$BU$2)+4,SEARCH("&",$BU$2,SEARCH(TEXT(BM15,"mmm"),$BU$2))-SEARCH(TEXT(BM15,"mmm"),$BU$2)-4)) -> #VALUE! | BP15: =IF(ISNUMBER(B15),B15,"") | BQ15: 1311 | BR15: =BQ15/$BQ$3 -> 1.1253219 | BS15: =--(ISNUMBER(BP15)) -> 0 | BT15: =IF(AND(BS15,BP15),BP15/BR15) -> FALSE | BU15: =IF(BS15,ROUND(BP15,0),ROUND($BT$3*BR15,0)) -> 1311 | BV15: =IF(Moving,BQ15,IF(Months_Entered=0,$BN15,IF($BJ15,$BU15,0))) -> 0 | BW15: =IFERROR(IF($BI15,LOOKUP(BV15,$CO$23:$CS$23,$CT$23:$CX$23)+IF($CN$23="Y",SUMPRODUCT($DE$23:$DI$23-$DD$23:$DH$23,BV15-$CY$23:$DC$23,N(BV15>$CY$23:$DC$23)),BV15*LOOKUP(BV15,$CY$23:$DC$23,$DE$23:$DI$23))+IF($DL$23="Y",$DM$23,$DJ$23)+BV15*IF($DL$23="Y",$DN$23,$DK$23),$DM$23+BV15*($BL15+$DN$23+$BH$23))*100/BV15,99) -> 99 | BX15: =IFERROR($BW15-$DM$23*100/$BV15-$DN$23*100,99) -> 99 | BY15: =$BV15*(1+BY$2) -> 0 | BZ15: =IFERROR(IF($BI15,LOOKUP(BY15,$CO$23:$CS$23,$CT$23:$CX$23)+IF($CN$23="Y",SUMPRODUCT($DE$23:$DI$23-$DD$23:$DH$23,BY15-$CY$23:$DC$23,N(BY15>$CY$23:$DC$23)),BY15*LOOKUP(BY15,$CY$23:$DC$23,$DE$23:$DI$23))+IF($DL$23="Y",$DM$23,$DJ$23)+BY15*IF($DL$23="Y",$DN$23,$DK$23),$DM$23+BY15*($BL15+$DN$23+$BH$23))*100/BY15,99) -> 99 | CA15: =$BV15*(1+CA$2) -> 0 | CB15: =IFERROR(IF($BI15,LOOKUP(CA15,$CO$23:$CS$23,$CT$23:$CX$23)+IF($CN$23="Y",SUMPRODUCT($DE$23:$DI$23-$DD$23:$DH$23,CA15-$CY$23:$DC$23,N(CA15>$CY$23:$DC$23)),CA15*LOOKUP(CA15,$CY$23:$DC$23,$DE$23:$DI$23))+IF($DL$23="Y",$DM$23,$DJ$23)+CA15*IF($DL$23="Y",$DN$23,$DK$23),$DM$23+CA15*($BL15+$DN$23+$BH$23))*100/CA15,99) -> 99 | CC15: =IF(Show_Plan,IF($BS15,$BV15,NA()),NA()) -> #N/A | CD15: =IF($BJ15,LEFT(TEXT(DATE(2000,BG15,1),"mmm"),1),"") -> J | CE15: =IF(Show_Plan,IF($BS15,NA(),BV15),NA()) -> #N/A | CF15: =IFERROR(IF(Show_Plan,($BV15*$BW15)/100,""),"") | CG15: =IF(INDEX($BI$10:$BI$21,ROW(CG$21)+1-ROW()),INDEX($CF$10:$CF$21,ROW(CG$21)+1-ROW()),"") | CH15: =IF(INDEX($BI$10:$BI$21,ROW(CH$21)+1-ROW()),"",INDEX($CF$10:$CF$21,ROW(CH$21)+1-ROW())) | CI15: =IF(TDU_IDd,IF($BI15,$BV15,NA()),0) -> 0 | CJ15: =IF(TDU_IDd,IF($BI15,NA(),$BV15),0) -> 0 | CK15: =INDEX(Cycles!$B$9:$B$3122,MATCH(DATE(YEAR($BM15),MONTH($BM15),BF$9),IF(TDU="CENTERPOINT",Cycles!$E$9:$E$3122,Cycles!$H$9:$H$3122),1))+0.5 -> #N/A | CL15: =INDEX(IF(TDU="CENTERPOINT",Cycles!$D$9:$D$3122,Cycles!$G$9:$G$3122),MATCH(DATE(YEAR($BM15),MONTH($BM15),$BF$9),IF(TDU="CENTERPOINT",Cycles!$E$9:$E$3122,Cycles!$H$9:$H$3122),1)) -> #N/A | DP15: Avg rate | EA15: =IFERROR(INDEX(Database!$BP$8:$BP$360,Plan_DBRow),99) -> 99 | EB15: =EA15 -> 99 | GT15: Prorated Usage, from BOM | GU15: =GU11*GU9/GU10 -> #N/A | GV15: =GV11*GV9/GV10 -> #N/A | GW15: =GW11*GW9/GW10 -> #N/A | GX15: =GX11*GX9/GX10 -> #N/A | GY15: =GY11*GY9/GY10 -> #N/A | GZ15: =GZ11*GZ9/GZ10 -> #N/A | HA15: =HA11*HA9/HA10 -> #N/A | HB15: =HB11*HB9/HB10 -> #N/A | ... ID15: =ID11*ID9/ID10 -> #N/A
A16: Jul: | C16: =IF(ISNUMBER($B16),"",TEXT($BV16,"#,### ")) | E16: =BW16 -> 99 | BE16: Sign-up enabled? | BF16: =AND(Pick_A_Plan,Show_Plan,NOT(Meter_Needed),NOT(Locked)) -> FALSE | BG16: 7 | BH16: =(EOMONTH(Rel_Date+Buffer_Days,IF($BG16<MONTH(Rel_Date+Buffer_Days),12,0)+$BG16-MONTH(Rel_Date+Buffer_Days))+0-(Rel_Date+Buffer_Days))/30.4375 -> 8.6518138 | BI16: =IF($BH16>$BF$21,0,1) -> 1 | BJ16: =IF($BH16>$J$24,0,1) -> 1 | BK16: 0.067754988 | BL16: =$BK16+IF(TDU="Oncor",$BL$2,0) -> 0.067754988 | BM16: =EOMONTH(BM$10,BG16-2)+1 -> 46204 | BO16: =VALUE(MID($BU$2,SEARCH(TEXT(BM16,"mmm"),$BU$2)+4,SEARCH("&",$BU$2,SEARCH(TEXT(BM16,"mmm"),$BU$2))-SEARCH(TEXT(BM16,"mmm"),$BU$2)-4)) -> #VALUE! | BP16: =IF(ISNUMBER(B16),B16,"") | BQ16: 1691 | BR16: =BQ16/$BQ$3 -> 1.4515021 | BS16: =--(ISNUMBER(BP16)) -> 0 | BT16: =IF(AND(BS16,BP16),BP16/BR16) -> FALSE | BU16: =IF(BS16,ROUND(BP16,0),ROUND($BT$3*BR16,0)) -> 1691 | BV16: =IF(Moving,BQ16,IF(Months_Entered=0,$BN16,IF($BJ16,$BU16,0))) -> 0 | BW16: =IFERROR(IF($BI16,LOOKUP(BV16,$CO$23:$CS$23,$CT$23:$CX$23)+IF($CN$23="Y",SUMPRODUCT($DE$23:$DI$23-$DD$23:$DH$23,BV16-$CY$23:$DC$23,N(BV16>$CY$23:$DC$23)),BV16*LOOKUP(BV16,$CY$23:$DC$23,$DE$23:$DI$23))+IF($DL$23="Y",$DM$23,$DJ$23)+BV16*IF($DL$23="Y",$DN$23,$DK$23),$DM$23+BV16*($BL16+$DN$23+$BH$23))*100/BV16,99) -> 99 | BX16: =IFERROR($BW16-$DM$23*100/$BV16-$DN$23*100,99) -> 99 | BY16: =$BV16*(1+BY$2) -> 0 | BZ16: =IFERROR(IF($BI16,LOOKUP(BY16,$CO$23:$CS$23,$CT$23:$CX$23)+IF($CN$23="Y",SUMPRODUCT($DE$23:$DI$23-$DD$23:$DH$23,BY16-$CY$23:$DC$23,N(BY16>$CY$23:$DC$23)),BY16*LOOKUP(BY16,$CY$23:$DC$23,$DE$23:$DI$23))+IF($DL$23="Y",$DM$23,$DJ$23)+BY16*IF($DL$23="Y",$DN$23,$DK$23),$DM$23+BY16*($BL16+$DN$23+$BH$23))*100/BY16,99) -> 99 | CA16: =$BV16*(1+CA$2) -> 0 | CB16: =IFERROR(IF($BI16,LOOKUP(CA16,$CO$23:$CS$23,$CT$23:$CX$23)+IF($CN$23="Y",SUMPRODUCT($DE$23:$DI$23-$DD$23:$DH$23,CA16-$CY$23:$DC$23,N(CA16>$CY$23:$DC$23)),CA16*LOOKUP(CA16,$CY$23:$DC$23,$DE$23:$DI$23))+IF($DL$23="Y",$DM$23,$DJ$23)+CA16*IF($DL$23="Y",$DN$23,$DK$23),$DM$23+CA16*($BL16+$DN$23+$BH$23))*100/CA16,99) -> 99 | CC16: =IF(Show_Plan,IF($BS16,$BV16,NA()),NA()) -> #N/A | CD16: =IF($BJ16,LEFT(TEXT(DATE(2000,BG16,1),"mmm"),1),"") -> J | CE16: =IF(Show_Plan,IF($BS16,NA(),BV16),NA()) -> #N/A | CF16: =IFERROR(IF(Show_Plan,($BV16*$BW16)/100,""),"") | CG16: =IF(INDEX($BI$10:$BI$21,ROW(CG$21)+1-ROW()),INDEX($CF$10:$CF$21,ROW(CG$21)+1-ROW()),"") | CH16: =IF(INDEX($BI$10:$BI$21,ROW(CH$21)+1-ROW()),"",INDEX($CF$10:$CF$21,ROW(CH$21)+1-ROW())) | CI16: =IF(TDU_IDd,IF($BI16,$BV16,NA()),0) -> 0 | CJ16: =IF(TDU_IDd,IF($BI16,NA(),$BV16),0) -> 0 | CK16: =INDEX(Cycles!$B$9:$B$3122,MATCH(DATE(YEAR($BM16),MONTH($BM16),BF$9),IF(TDU="CENTERPOINT",Cycles!$E$9:$E$3122,Cycles!$H$9:$H$3122),1))+0.5 -> #N/A | CL16: =INDEX(IF(TDU="CENTERPOINT",Cycles!$D$9:$D$3122,Cycles!$G$9:$G$3122),MATCH(DATE(YEAR($BM16),MONTH($BM16),$BF$9),IF(TDU="CENTERPOINT",Cycles!$E$9:$E$3122,Cycles!$H$9:$H$3122),1)) -> #N/A | GT16: Billing, from BOM | GU16: =IF(GU15>0,LOOKUP(GU15,$CO$23:$CS$23,$CT$23:$CX$23)+IF($CN$23="Y",SUMPRODUCT($DE$23:$DI$23-$DD$23:$DH$23,GU15-$CY$23:$DC$23,N(GU15>$CY$23:$DC$23)),GU15*LOOKUP(GU15,$CY$23:$DC$23,$DE$23:$DI$23))+IF($DL$23="Y",$DM$23,$DJ$23)*GU$9/GU$10+GU15*IF($DL$23="Y",$DN$23,$DK$23),0) -> #N/A | GV16: =IF(GV15>0,LOOKUP(GV15,$CO$23:$CS$23,$CT$23:$CX$23)+IF($CN$23="Y",SUMPRODUCT($DE$23:$DI$23-$DD$23:$DH$23,GV15-$CY$23:$DC$23,N(GV15>$CY$23:$DC$23)),GV15*LOOKUP(GV15,$CY$23:$DC$23,$DE$23:$DI$23))+IF($DL$23="Y",$DM$23,$DJ$23)*GV$9/GV$10+GV15*IF($DL$23="Y",$DN$23,$DK$23),0) -> #N/A | GW16: =IF(GW15>0,LOOKUP(GW15,$CO$23:$CS$23,$CT$23:$CX$23)+IF($CN$23="Y",SUMPRODUCT($DE$23:$DI$23-$DD$23:$DH$23,GW15-$CY$23:$DC$23,N(GW15>$CY$23:$DC$23)),GW15*LOOKUP(GW15,$CY$23:$DC$23,$DE$23:$DI$23))+IF($DL$23="Y",$DM$23,$DJ$23)*GW$9/GW$10+GW15*IF($DL$23="Y",$DN$23,$DK$23),0) -> #N/A | GX16: =IF(GX15>0,LOOKUP(GX15,$CO$23:$CS$23,$CT$23:$CX$23)+IF($CN$23="Y",SUMPRODUCT($DE$23:$DI$23-$DD$23:$DH$23,GX15-$CY$23:$DC$23,N(GX15>$CY$23:$DC$23)),GX15*LOOKUP(GX15,$CY$23:$DC$23,$DE$23:$DI$23))+IF($DL$23="Y",$DM$23,$DJ$23)*GX$9/GX$10+GX15*IF($DL$23="Y",$DN$23,$DK$23),0) -> #N/A | GY16: =IF(GY15>0,LOOKUP(GY15,$CO$23:$CS$23,$CT$23:$CX$23)+IF($CN$23="Y",SUMPRODUCT($DE$23:$DI$23-$DD$23:$DH$23,GY15-$CY$23:$DC$23,N(GY15>$CY$23:$DC$23)),GY15*LOOKUP(GY15,$CY$23:$DC$23,$DE$23:$DI$23))+IF($DL$23="Y",$DM$23,$DJ$23)*GY$9/GY$10+GY15*IF($DL$23="Y",$DN$23,$DK$23),0) -> #N/A | GZ16: =IF(GZ15>0,LOOKUP(GZ15,$CO$23:$CS$23,$CT$23:$CX$23)+IF($CN$23="Y",SUMPRODUCT($DE$23:$DI$23-$DD$23:$DH$23,GZ15-$CY$23:$DC$23,N(GZ15>$CY$23:$DC$23)),GZ15*LOOKUP(GZ15,$CY$23:$DC$23,$DE$23:$DI$23))+IF($DL$23="Y",$DM$23,$DJ$23)*GZ$9/GZ$10+GZ15*IF($DL$23="Y",$DN$23,$DK$23),0) -> #N/A | HA16: =IF(HA15>0,LOOKUP(HA15,$CO$23:$CS$23,$CT$23:$CX$23)+IF($CN$23="Y",SUMPRODUCT($DE$23:$DI$23-$DD$23:$DH$23,HA15-$CY$23:$DC$23,N(HA15>$CY$23:$DC$23)),HA15*LOOKUP(HA15,$CY$23:$DC$23,$DE$23:$DI$23))+IF($DL$23="Y",$DM$23,$DJ$23)*HA$9/HA$10+HA15*IF($DL$23="Y",$DN$23,$DK$23),0) -> #N/A | HB16: =IF(HB15>0,LOOKUP(HB15,$CO$23:$CS$23,$CT$23:$CX$23)+IF($CN$23="Y",SUMPRODUCT($DE$23:$DI$23-$DD$23:$DH$23,HB15-$CY$23:$DC$23,N(HB15>$CY$23:$DC$23)),HB15*LOOKUP(HB15,$CY$23:$DC$23,$DE$23:$DI$23))+IF($DL$23="Y",$DM$23,$DJ$23)*HB$9/HB$10+HB15*IF($DL$23="Y",$DN$23,$DK$23),0) -> #N/A | ... ID16: =IF(ID15>0,LOOKUP(ID15,$CO$23:$CS$23,$CT$23:$CX$23)+IF($CN$23="Y",SUMPRODUCT($DE$23:$DI$23-$DD$23:$DH$23,ID15-$CY$23:$DC$23,N(ID15>$CY$23:$DC$23)),ID15*LOOKUP(ID15,$CY$23:$DC$23,$DE$23:$DI$23))+IF($DL$23="Y",$DM$23,$DJ$23)*ID$9/ID$10+ID15*IF($DL$23="Y",$DN$23,$DK$23),0) -> #N/A
A17: Aug: | C17: =IF(ISNUMBER($B17),"",TEXT($BV17,"#,### ")) | E17: =BW17 -> 99 | T17: =IF(Show_Plan,IF(Locked,"",IF(Meter_Needed,"To avoid higher charges, enter your Meter Read Date","• No more than 14 days before your contract ends")),"") | BE17: Rate Risk | BF17: =IF(Moving,"Low","Any") -> Any | BG17: 8 | BH17: =(EOMONTH(Rel_Date+Buffer_Days,IF($BG17<MONTH(Rel_Date+Buffer_Days),12,0)+$BG17-MONTH(Rel_Date+Buffer_Days))+0-(Rel_Date+Buffer_Days))/30.4375 -> 9.6702943 | BI17: =IF($BH17>$BF$21,0,1) -> 1 | BJ17: =IF($BH17>$J$24,0,1) -> 1 | BK17: 0.083851925 | BL17: =$BK17+IF(TDU="Oncor",$BL$2,0) -> 0.083851925 | BM17: =EOMONTH(BM$10,BG17-2)+1 -> 46235 | BO17: =VALUE(MID($BU$2,SEARCH(TEXT(BM17,"mmm"),$BU$2)+4,SEARCH("&",$BU$2,SEARCH(TEXT(BM17,"mmm"),$BU$2))-SEARCH(TEXT(BM17,"mmm"),$BU$2)-4)) -> #VALUE! | BP17: =IF(ISNUMBER(B17),B17,"") | BQ17: 1687 | BR17: =BQ17/$BQ$3 -> 1.4480687 | BS17: =--(ISNUMBER(BP17)) -> 0 | BT17: =IF(AND(BS17,BP17),BP17/BR17) -> FALSE | BU17: =IF(BS17,ROUND(BP17,0),ROUND($BT$3*BR17,0)) -> 1687 | BV17: =IF(Moving,BQ17,IF(Months_Entered=0,$BN17,IF($BJ17,$BU17,0))) -> 0 | BW17: =IFERROR(IF($BI17,LOOKUP(BV17,$CO$23:$CS$23,$CT$23:$CX$23)+IF($CN$23="Y",SUMPRODUCT($DE$23:$DI$23-$DD$23:$DH$23,BV17-$CY$23:$DC$23,N(BV17>$CY$23:$DC$23)),BV17*LOOKUP(BV17,$CY$23:$DC$23,$DE$23:$DI$23))+IF($DL$23="Y",$DM$23,$DJ$23)+BV17*IF($DL$23="Y",$DN$23,$DK$23),$DM$23+BV17*($BL17+$DN$23+$BH$23))*100/BV17,99) -> 99 | BX17: =IFERROR($BW17-$DM$23*100/$BV17-$DN$23*100,99) -> 99 | BY17: =$BV17*(1+BY$2) -> 0 | BZ17: =IFERROR(IF($BI17,LOOKUP(BY17,$CO$23:$CS$23,$CT$23:$CX$23)+IF($CN$23="Y",SUMPRODUCT($DE$23:$DI$23-$DD$23:$DH$23,BY17-$CY$23:$DC$23,N(BY17>$CY$23:$DC$23)),BY17*LOOKUP(BY17,$CY$23:$DC$23,$DE$23:$DI$23))+IF($DL$23="Y",$DM$23,$DJ$23)+BY17*IF($DL$23="Y",$DN$23,$DK$23),$DM$23+BY17*($BL17+$DN$23+$BH$23))*100/BY17,99) -> 99 | CA17: =$BV17*(1+CA$2) -> 0 | CB17: =IFERROR(IF($BI17,LOOKUP(CA17,$CO$23:$CS$23,$CT$23:$CX$23)+IF($CN$23="Y",SUMPRODUCT($DE$23:$DI$23-$DD$23:$DH$23,CA17-$CY$23:$DC$23,N(CA17>$CY$23:$DC$23)),CA17*LOOKUP(CA17,$CY$23:$DC$23,$DE$23:$DI$23))+IF($DL$23="Y",$DM$23,$DJ$23)+CA17*IF($DL$23="Y",$DN$23,$DK$23),$DM$23+CA17*($BL17+$DN$23+$BH$23))*100/CA17,99) -> 99 | CC17: =IF(Show_Plan,IF($BS17,$BV17,NA()),NA()) -> #N/A | CD17: =IF($BJ17,LEFT(TEXT(DATE(2000,BG17,1),"mmm"),1),"") -> A | CE17: =IF(Show_Plan,IF($BS17,NA(),BV17),NA()) -> #N/A | CF17: =IFERROR(IF(Show_Plan,($BV17*$BW17)/100,""),"") | CG17: =IF(INDEX($BI$10:$BI$21,ROW(CG$21)+1-ROW()),INDEX($CF$10:$CF$21,ROW(CG$21)+1-ROW()),"") | CH17: =IF(INDEX($BI$10:$BI$21,ROW(CH$21)+1-ROW()),"",INDEX($CF$10:$CF$21,ROW(CH$21)+1-ROW())) | CI17: =IF(TDU_IDd,IF($BI17,$BV17,NA()),0) -> 0 | CJ17: =IF(TDU_IDd,IF($BI17,NA(),$BV17),0) -> 0 | CK17: =INDEX(Cycles!$B$9:$B$3122,MATCH(DATE(YEAR($BM17),MONTH($BM17),BF$9),IF(TDU="CENTERPOINT",Cycles!$E$9:$E$3122,Cycles!$H$9:$H$3122),1))+0.5 -> #N/A | CL17: =INDEX(IF(TDU="CENTERPOINT",Cycles!$D$9:$D$3122,Cycles!$G$9:$G$3122),MATCH(DATE(YEAR($BM17),MONTH($BM17),$BF$9),IF(TDU="CENTERPOINT",Cycles!$E$9:$E$3122,Cycles!$H$9:$H$3122),1)) -> #N/A | GT17: Billing, Split month total | GU17: =GU16+GU14 -> #N/A | GV17: =GV16+GV14 -> #N/A | GW17: =GW16+GW14 -> #N/A | GX17: =GX16+GX14 -> #N/A | GY17: =GY16+GY14 -> #N/A | GZ17: =GZ16+GZ14 -> #N/A | HA17: =HA16+HA14 -> #N/A | HB17: =HB16+HB14 -> #N/A | ... ID17: =ID16+ID14 -> #N/A
A18: Sep: | C18: =IF(ISNUMBER($B18),"",TEXT($BV18,"#,### ")) | E18: =BW18 -> 99 | BE18: # of matching plans | BF18: =MAX(Database!$CG$8:$CG$360) -> 0 | BG18: 9 | BH18: =(EOMONTH(Rel_Date+Buffer_Days,IF($BG18<MONTH(Rel_Date+Buffer_Days),12,0)+$BG18-MONTH(Rel_Date+Buffer_Days))+0-(Rel_Date+Buffer_Days))/30.4375 -> 10.655921 | BI18: =IF($BH18>$BF$21,0,1) -> 1 | BJ18: =IF($BH18>$J$24,0,1) -> 1 | BK18: 0.0449492 | BL18: =$BK18+IF(TDU="Oncor",$BL$2,0) -> 0.0449492 | BM18: =EOMONTH(BM$10,BG18-2)+1 -> 46266 | BO18: =VALUE(MID($BU$2,SEARCH(TEXT(BM18,"mmm"),$BU$2)+4,SEARCH("&",$BU$2,SEARCH(TEXT(BM18,"mmm"),$BU$2))-SEARCH(TEXT(BM18,"mmm"),$BU$2)-4)) -> #VALUE! | BP18: =IF(ISNUMBER(B18),B18,"") | BQ18: 1471 | BR18: =BQ18/$BQ$3 -> 1.2626609 | BS18: =--(ISNUMBER(BP18)) -> 0 | BT18: =IF(AND(BS18,BP18),BP18/BR18) -> FALSE | BU18: =IF(BS18,ROUND(BP18,0),ROUND($BT$3*BR18,0)) -> 1471 | BV18: =IF(Moving,BQ18,IF(Months_Entered=0,$BN18,IF($BJ18,$BU18,0))) -> 0 | BW18: =IFERROR(IF($BI18,LOOKUP(BV18,$CO$23:$CS$23,$CT$23:$CX$23)+IF($CN$23="Y",SUMPRODUCT($DE$23:$DI$23-$DD$23:$DH$23,BV18-$CY$23:$DC$23,N(BV18>$CY$23:$DC$23)),BV18*LOOKUP(BV18,$CY$23:$DC$23,$DE$23:$DI$23))+IF($DL$23="Y",$DM$23,$DJ$23)+BV18*IF($DL$23="Y",$DN$23,$DK$23),$DM$23+BV18*($BL18+$DN$23+$BH$23))*100/BV18,99) -> 99 | BX18: =IFERROR($BW18-$DM$23*100/$BV18-$DN$23*100,99) -> 99 | BY18: =$BV18*(1+BY$2) -> 0 | BZ18: =IFERROR(IF($BI18,LOOKUP(BY18,$CO$23:$CS$23,$CT$23:$CX$23)+IF($CN$23="Y",SUMPRODUCT($DE$23:$DI$23-$DD$23:$DH$23,BY18-$CY$23:$DC$23,N(BY18>$CY$23:$DC$23)),BY18*LOOKUP(BY18,$CY$23:$DC$23,$DE$23:$DI$23))+IF($DL$23="Y",$DM$23,$DJ$23)+BY18*IF($DL$23="Y",$DN$23,$DK$23),$DM$23+BY18*($BL18+$DN$23+$BH$23))*100/BY18,99) -> 99 | CA18: =$BV18*(1+CA$2) -> 0 | CB18: =IFERROR(IF($BI18,LOOKUP(CA18,$CO$23:$CS$23,$CT$23:$CX$23)+IF($CN$23="Y",SUMPRODUCT($DE$23:$DI$23-$DD$23:$DH$23,CA18-$CY$23:$DC$23,N(CA18>$CY$23:$DC$23)),CA18*LOOKUP(CA18,$CY$23:$DC$23,$DE$23:$DI$23))+IF($DL$23="Y",$DM$23,$DJ$23)+CA18*IF($DL$23="Y",$DN$23,$DK$23),$DM$23+CA18*($BL18+$DN$23+$BH$23))*100/CA18,99) -> 99 | CC18: =IF(Show_Plan,IF($BS18,$BV18,NA()),NA()) -> #N/A | CD18: =IF($BJ18,LEFT(TEXT(DATE(2000,BG18,1),"mmm"),1),"") -> S | CE18: =IF(Show_Plan,IF($BS18,NA(),BV18),NA()) -> #N/A | CF18: =IFERROR(IF(Show_Plan,($BV18*$BW18)/100,""),"") | CG18: =IF(INDEX($BI$10:$BI$21,ROW(CG$21)+1-ROW()),INDEX($CF$10:$CF$21,ROW(CG$21)+1-ROW()),"") | CH18: =IF(INDEX($BI$10:$BI$21,ROW(CH$21)+1-ROW()),"",INDEX($CF$10:$CF$21,ROW(CH$21)+1-ROW())) | CI18: =IF(TDU_IDd,IF($BI18,$BV18,NA()),0) -> 0 | CJ18: =IF(TDU_IDd,IF($BI18,NA(),$BV18),0) -> 0 | CK18: =INDEX(Cycles!$B$9:$B$3122,MATCH(DATE(YEAR($BM18),MONTH($BM18),BF$9),IF(TDU="CENTERPOINT",Cycles!$E$9:$E$3122,Cycles!$H$9:$H$3122),1))+0.5 -> #N/A | CL18: =INDEX(IF(TDU="CENTERPOINT",Cycles!$D$9:$D$3122,Cycles!$G$9:$G$3122),MATCH(DATE(YEAR($BM18),MONTH($BM18),$BF$9),IF(TDU="CENTERPOINT",Cycles!$E$9:$E$3122,Cycles!$H$9:$H$3122),1)) -> #N/A | DP18: Lbl position | EX18: 1 | FG18: =$EX18 -> 1 | FW18: =$EX18 -> 1 | GT18: Start Date Cost Difference | GU18: =IF(TDU_IDd,IFERROR(ROUND(GU17-GU12,1),NA()),"") | GV18: =IF(TDU_IDd,IFERROR(ROUND(GV17-GV12,1),NA()),"") | GW18: =IF(TDU_IDd,IFERROR(ROUND(GW17-GW12,1),NA()),"") | GX18: =IF(TDU_IDd,IFERROR(ROUND(GX17-GX12,1),NA()),"") | GY18: =IF(TDU_IDd,IFERROR(ROUND(GY17-GY12,1),NA()),"") | GZ18: =IF(TDU_IDd,IFERROR(ROUND(GZ17-GZ12,1),NA()),"") | HA18: =IF(TDU_IDd,IFERROR(ROUND(HA17-HA12,1),NA()),"") | HB18: =IF(TDU_IDd,IFERROR(ROUND(HB17-HB12,1),NA()),"") | ... ID18: =IF(TDU_IDd,IFERROR(ROUND(ID17-ID12,1),NA()),"") | IH18: =MIN(GY18:ID18) -> 0 | II18: =MAX(GY18:ID18) -> 0 | IJ18: Includes 5-day lead-time allowance
A19: Oct: | C19: =IF(ISNUMBER($B19),"",TEXT($BV19,"#,### ")) | E19: =BW19 -> 99 | T19: =IF(Show_Plan,IF(Locked,"",IF(Meter_Needed,IF(ISNUMBER(Prior_Read),"Not a valid "&PROPER(TDU)&" date. Please try again.","from your bill ↘"),IF(IFERROR((II18-IH18)>20,FALSE),IF(Bill_Cycle,"• or "&$IH$20&" (whichever's later)","• On your meter read date (Allow 7 days notice)"),""))),"") | BE19: Database row of selected plan | BF19: =IF(Show_Plan,MATCH(IF(Selected_Plan="?",1,Selected_Plan),Database!$CG$8:$CG$360,0),"") | BG19: 10 | BH19: =(EOMONTH(Rel_Date+Buffer_Days,IF($BG19<MONTH(Rel_Date+Buffer_Days),12,0)+$BG19-MONTH(Rel_Date+Buffer_Days))+0-(Rel_Date+Buffer_Days))/30.4375 -> 11.674401 | BI19: =IF($BH19>$BF$21,0,1) -> 1 | BJ19: =IF($BH19>$J$24,0,1) -> 1 | BK19: 0.04287825 | BL19: =$BK19+IF(TDU="Oncor",$BL$2,0) -> 0.04287825 | BM19: =EOMONTH(BM$10,BG19-2)+1 -> 46296 | BO19: =VALUE(MID($BU$2,SEARCH(TEXT(BM19,"mmm"),$BU$2)+4,SEARCH("&",$BU$2,SEARCH(TEXT(BM19,"mmm"),$BU$2))-SEARCH(TEXT(BM19,"mmm"),$BU$2)-4)) -> #VALUE! | BP19: =IF(ISNUMBER(B19),B19,"") | BQ19: 1155 | BR19: =BQ19/$BQ$3 -> 0.99141631 | BS19: =--(ISNUMBER(BP19)) -> 0 | BT19: =IF(AND(BS19,BP19),BP19/BR19) -> FALSE | BU19: =IF(BS19,ROUND(BP19,0),ROUND($BT$3*BR19,0)) -> 1155 | BV19: =IF(Moving,BQ19,IF(Months_Entered=0,$BN19,IF($BJ19,$BU19,0))) -> 0 | BW19: =IFERROR(IF($BI19,LOOKUP(BV19,$CO$23:$CS$23,$CT$23:$CX$23)+IF($CN$23="Y",SUMPRODUCT($DE$23:$DI$23-$DD$23:$DH$23,BV19-$CY$23:$DC$23,N(BV19>$CY$23:$DC$23)),BV19*LOOKUP(BV19,$CY$23:$DC$23,$DE$23:$DI$23))+IF($DL$23="Y",$DM$23,$DJ$23)+BV19*IF($DL$23="Y",$DN$23,$DK$23),$DM$23+BV19*($BL19+$DN$23+$BH$23))*100/BV19,99) -> 99 | BX19: =IFERROR($BW19-$DM$23*100/$BV19-$DN$23*100,99) -> 99 | BY19: =$BV19*(1+BY$2) -> 0 | BZ19: =IFERROR(IF($BI19,LOOKUP(BY19,$CO$23:$CS$23,$CT$23:$CX$23)+IF($CN$23="Y",SUMPRODUCT($DE$23:$DI$23-$DD$23:$DH$23,BY19-$CY$23:$DC$23,N(BY19>$CY$23:$DC$23)),BY19*LOOKUP(BY19,$CY$23:$DC$23,$DE$23:$DI$23))+IF($DL$23="Y",$DM$23,$DJ$23)+BY19*IF($DL$23="Y",$DN$23,$DK$23),$DM$23+BY19*($BL19+$DN$23+$BH$23))*100/BY19,99) -> 99 | CA19: =$BV19*(1+CA$2) -> 0 | CB19: =IFERROR(IF($BI19,LOOKUP(CA19,$CO$23:$CS$23,$CT$23:$CX$23)+IF($CN$23="Y",SUMPRODUCT($DE$23:$DI$23-$DD$23:$DH$23,CA19-$CY$23:$DC$23,N(CA19>$CY$23:$DC$23)),CA19*LOOKUP(CA19,$CY$23:$DC$23,$DE$23:$DI$23))+IF($DL$23="Y",$DM$23,$DJ$23)+CA19*IF($DL$23="Y",$DN$23,$DK$23),$DM$23+CA19*($BL19+$DN$23+$BH$23))*100/CA19,99) -> 99 | CC19: =IF(Show_Plan,IF($BS19,$BV19,NA()),NA()) -> #N/A | CD19: =IF($BJ19,LEFT(TEXT(DATE(2000,BG19,1),"mmm"),1),"") -> O | CE19: =IF(Show_Plan,IF($BS19,NA(),BV19),NA()) -> #N/A | CF19: =IFERROR(IF(Show_Plan,($BV19*$BW19)/100,""),"") | CG19: =IF(INDEX($BI$10:$BI$21,ROW(CG$21)+1-ROW()),INDEX($CF$10:$CF$21,ROW(CG$21)+1-ROW()),"") | CH19: =IF(INDEX($BI$10:$BI$21,ROW(CH$21)+1-ROW()),"",INDEX($CF$10:$CF$21,ROW(CH$21)+1-ROW())) | CI19: =IF(TDU_IDd,IF($BI19,$BV19,NA()),0) -> 0 | CJ19: =IF(TDU_IDd,IF($BI19,NA(),$BV19),0) -> 0 | CK19: =INDEX(Cycles!$B$9:$B$3122,MATCH(DATE(YEAR($BM19),MONTH($BM19),BF$9),IF(TDU="CENTERPOINT",Cycles!$E$9:$E$3122,Cycles!$H$9:$H$3122),1))+0.5 -> #N/A | CL19: =INDEX(IF(TDU="CENTERPOINT",Cycles!$D$9:$D$3122,Cycles!$G$9:$G$3122),MATCH(DATE(YEAR($BM19),MONTH($BM19),$BF$9),IF(TDU="CENTERPOINT",Cycles!$E$9:$E$3122,Cycles!$H$9:$H$3122),1)) -> #N/A | DP19: =$CD$9 -> Data Labels | EX19: =IF(AND(ISNUMBER(EX20),$GM$25<2400),TEXT(EX20,"#.0"" @"""),"") -> 99.0 @ | FG19: =IF(ISNUMBER(FG20),TEXT(FG20,"#.0"" @"""),"") -> 99.0 @ | FW19: =IF(ISNUMBER(FW20),TEXT(FW20,"#.0"" @"""),"") -> 99.0 @ | GL19: =IF(ISNUMBER(GL20),TEXT(GL20,"##.0")&" Avg","")&IF(AND(Pick_A_Plan,CT19<12,CB34<>CT19),"*","") -> 99.0 Avg | GT19: Local Minimum? | GV19: =IF(AND(MIN(GU18:GW18)=GV18,(MAX(GU18:GW18)-MIN(GU18:GW18)>0.1)),1) -> FALSE | GW19: =IF(AND(MIN(GV18:GX18)=GW18,(MAX(GV18:GX18)-MIN(GV18:GX18)>0.1)),1) -> FALSE | GX19: =IF(AND(MIN(GW18:GY18)=GX18,(MAX(GW18:GY18)-MIN(GW18:GY18)>0.1)),1) -> FALSE | GY19: =IF(AND(MIN(GX18:GZ18)=GY18,(MAX(GX18:GZ18)-MIN(GX18:GZ18)>0.1)),1) -> FALSE | GZ19: =IF(AND(MIN(GY18:HA18)=GZ18,(MAX(GY18:HA18)-MIN(GY18:HA18)>0.1)),1) -> FALSE | HA19: =IF(AND(MIN(GZ18:HB18)=HA18,(MAX(GZ18:HB18)-MIN(GZ18:HB18)>0.1)),1) -> FALSE | HB19: =IF(AND(MIN(HA18:HC18)=HB18,(MAX(HA18:HC18)-MIN(HA18:HC18)>0.1)),1) -> FALSE | HC19: =IF(AND(MIN(HB18:HD18)=HC18,(MAX(HB18:HD18)-MIN(HB18:HD18)>0.1)),1) -> FALSE | ... IC19: =IF(AND(MIN(IB18:ID18)=IC18,(MAX(IB18:ID18)-MIN(IB18:ID18)>0.1)),1) -> FALSE | IH19: =MATCH(IH18,GY18:ID18,0) -> #N/A
A20: Nov: | C20: =IF(ISNUMBER($B20),"",TEXT($BV20,"#,### ")) | E20: =BW20 -> 99 | AC20: =IF(More_Plans,"Source: TOS & EFL docs. (You can avoid most of these fees with e-bill, autopay, and timely payments.)","") | BE20: Cost of selected plan | BF20: =INDEX(Database!BO$8:BO$360,Plan_DBRow) -> #VALUE! | BG20: 11 | BH20: =(EOMONTH(Rel_Date+Buffer_Days,IF($BG20<MONTH(Rel_Date+Buffer_Days),12,0)+$BG20-MONTH(Rel_Date+Buffer_Days))+0-(Rel_Date+Buffer_Days))/30.4375 -> 0.66824093 | BI20: =IF($BH20>$BF$21,0,1) -> 1 | BJ20: =IF($BH20>$J$24,0,1) -> 1 | BK20: 0.042230162 | BL20: =$BK20+IF(TDU="Oncor",$BL$2,0) -> 0.042230162 | BM20: =EOMONTH(BM$10,BG20-2)+1 -> 46327 | BO20: =VALUE(MID($BU$2,SEARCH(TEXT(BM20,"mmm"),$BU$2)+4,SEARCH("&",$BU$2,SEARCH(TEXT(BM20,"mmm"),$BU$2))-SEARCH(TEXT(BM20,"mmm"),$BU$2)-4)) -> #VALUE! | BP20: =IF(ISNUMBER(B20),B20,"") | BQ20: 881 | BR20: =BQ20/$BQ$3 -> 0.75622318 | BS20: =--(ISNUMBER(BP20)) -> 0 | BT20: =IF(AND(BS20,BP20),BP20/BR20) -> FALSE | BU20: =IF(BS20,ROUND(BP20,0),ROUND($BT$3*BR20,0)) -> 881 | BV20: =IF(Moving,BQ20,IF(Months_Entered=0,$BN20,IF($BJ20,$BU20,0))) -> 0 | BW20: =IFERROR(IF($BI20,LOOKUP(BV20,$CO$23:$CS$23,$CT$23:$CX$23)+IF($CN$23="Y",SUMPRODUCT($DE$23:$DI$23-$DD$23:$DH$23,BV20-$CY$23:$DC$23,N(BV20>$CY$23:$DC$23)),BV20*LOOKUP(BV20,$CY$23:$DC$23,$DE$23:$DI$23))+IF($DL$23="Y",$DM$23,$DJ$23)+BV20*IF($DL$23="Y",$DN$23,$DK$23),$DM$23+BV20*($BL20+$DN$23+$BH$23))*100/BV20,99) -> 99 | BX20: =IFERROR($BW20-$DM$23*100/$BV20-$DN$23*100,99) -> 99 | BY20: =$BV20*(1+BY$2) -> 0 | BZ20: =IFERROR(IF($BI20,LOOKUP(BY20,$CO$23:$CS$23,$CT$23:$CX$23)+IF($CN$23="Y",SUMPRODUCT($DE$23:$DI$23-$DD$23:$DH$23,BY20-$CY$23:$DC$23,N(BY20>$CY$23:$DC$23)),BY20*LOOKUP(BY20,$CY$23:$DC$23,$DE$23:$DI$23))+IF($DL$23="Y",$DM$23,$DJ$23)+BY20*IF($DL$23="Y",$DN$23,$DK$23),$DM$23+BY20*($BL20+$DN$23+$BH$23))*100/BY20,99) -> 99 | CA20: =$BV20*(1+CA$2) -> 0 | CB20: =IFERROR(IF($BI20,LOOKUP(CA20,$CO$23:$CS$23,$CT$23:$CX$23)+IF($CN$23="Y",SUMPRODUCT($DE$23:$DI$23-$DD$23:$DH$23,CA20-$CY$23:$DC$23,N(CA20>$CY$23:$DC$23)),CA20*LOOKUP(CA20,$CY$23:$DC$23,$DE$23:$DI$23))+IF($DL$23="Y",$DM$23,$DJ$23)+CA20*IF($DL$23="Y",$DN$23,$DK$23),$DM$23+CA20*($BL20+$DN$23+$BH$23))*100/CA20,99) -> 99 | CC20: =IF(Show_Plan,IF($BS20,$BV20,NA()),NA()) -> #N/A | CD20: =IF($BJ20,LEFT(TEXT(DATE(2000,BG20,1),"mmm"),1),"") -> N | CE20: =IF(Show_Plan,IF($BS20,NA(),BV20),NA()) -> #N/A | CF20: =IFERROR(IF(Show_Plan,($BV20*$BW20)/100,""),"") | CG20: =IF(INDEX($BI$10:$BI$21,ROW(CG$21)+1-ROW()),INDEX($CF$10:$CF$21,ROW(CG$21)+1-ROW()),"") | CH20: =IF(INDEX($BI$10:$BI$21,ROW(CH$21)+1-ROW()),"",INDEX($CF$10:$CF$21,ROW(CH$21)+1-ROW())) | CI20: =IF(TDU_IDd,IF($BI20,$BV20,NA()),0) -> 0 | CJ20: =IF(TDU_IDd,IF($BI20,NA(),$BV20),0) -> 0 | CK20: =INDEX(Cycles!$B$9:$B$3122,MATCH(DATE(YEAR($BM20),MONTH($BM20),BF$9),IF(TDU="CENTERPOINT",Cycles!$E$9:$E$3122,Cycles!$H$9:$H$3122),1))+0.5 -> #N/A | CL20: =INDEX(IF(TDU="CENTERPOINT",Cycles!$D$9:$D$3122,Cycles!$G$9:$G$3122),MATCH(DATE(YEAR($BM20),MONTH($BM20),$BF$9),IF(TDU="CENTERPOINT",Cycles!$E$9:$E$3122,Cycles!$H$9:$H$3122),1)) -> #N/A | DP20: =$BW$9 -> Rate @Nom | EA20: {=IFERROR((LOOKUP(EA$24,$CO23:$CS23,$CT23:$CX23)+IF($CN23="Y",SUMPRODUCT($DE23:$DI23-$DD23:$DH23,EA$24-$CY23:$DC23,N(EA$24>$CY23:$DC23)),EA$24*LOOKUP(EA$24,$CY23:$DC23,$DE23:$DI23))+IF($DL23="Y",$DM23,$DJ23)+EA$24*IF($DL23="Y",$DN23,$DK23))*100/EA$24,99)} -> 99 | EB20: {=IFERROR((LOOKUP(EB$24,$CO23:$CS23,$CT23:$CX23)+IF($CN23="Y",SUMPRODUCT($DE23:$DI23-$DD23:$DH23,EB$24-$CY23:$DC23,N(EB$24>$CY23:$DC23)),EB$24*LOOKUP(EB$24,$CY23:$DC23,$DE23:$DI23))+IF($DL23="Y",$DM23,$DJ23)+EB$24*IF($DL23="Y",$DN23,$DK23))*100/EB$24,99)} -> 99 | EC20: {=IFERROR((LOOKUP(EC$24,$CO23:$CS23,$CT23:$CX23)+IF($CN23="Y",SUMPRODUCT($DE23:$DI23-$DD23:$DH23,EC$24-$CY23:$DC23,N(EC$24>$CY23:$DC23)),EC$24*LOOKUP(EC$24,$CY23:$DC23,$DE23:$DI23))+IF($DL23="Y",$DM23,$DJ23)+EC$24*IF($DL23="Y",$DN23,$DK23))*100/EC$24,99)} -> 99 | ED20: {=IFERROR((LOOKUP(ED$24,$CO23:$CS23,$CT23:$CX23)+IF($CN23="Y",SUMPRODUCT($DE23:$DI23-$DD23:$DH23,ED$24-$CY23:$DC23,N(ED$24>$CY23:$DC23)),ED$24*LOOKUP(ED$24,$CY23:$DC23,$DE23:$DI23))+IF($DL23="Y",$DM23,$DJ23)+ED$24*IF($DL23="Y",$DN23,$DK23))*100/ED$24,99)} -> 99 | EE20: {=IFERROR((LOOKUP(EE$24,$CO23:$CS23,$CT23:$CX23)+IF($CN23="Y",SUMPRODUCT($DE23:$DI23-$DD23:$DH23,EE$24-$CY23:$DC23,N(EE$24>$CY23:$DC23)),EE$24*LOOKUP(EE$24,$CY23:$DC23,$DE23:$DI23))+IF($DL23="Y",$DM23,$DJ23)+EE$24*IF($DL23="Y",$DN23,$DK23))*100/EE$24,99)} -> 99 | EF20: {=IFERROR((LOOKUP(EF$24,$CO23:$CS23,$CT23:$CX23)+IF($CN23="Y",SUMPRODUCT($DE23:$DI23-$DD23:$DH23,EF$24-$CY23:$DC23,N(EF$24>$CY23:$DC23)),EF$24*LOOKUP(EF$24,$CY23:$DC23,$DE23:$DI23))+IF($DL23="Y",$DM23,$DJ23)+EF$24*IF($DL23="Y",$DN23,$DK23))*100/EF$24,99)} -> 99 | EG20: {=IFERROR((LOOKUP(EG$24,$CO23:$CS23,$CT23:$CX23)+IF($CN23="Y",SUMPRODUCT($DE23:$DI23-$DD23:$DH23,EG$24-$CY23:$DC23,N(EG$24>$CY23:$DC23)),EG$24*LOOKUP(EG$24,$CY23:$DC23,$DE23:$DI23))+IF($DL23="Y",$DM23,$DJ23)+EG$24*IF($DL23="Y",$DN23,$DK23))*100/EG$24,99)} -> 99 | EH20: {=IFERROR((LOOKUP(EH$24,$CO23:$CS23,$CT23:$CX23)+IF($CN23="Y",SUMPRODUCT($DE23:$DI23-$DD23:$DH23,EH$24-$CY23:$DC23,N(EH$24>$CY23:$DC23)),EH$24*LOOKUP(EH$24,$CY23:$DC23,$DE23:$DI23))+IF($DL23="Y",$DM23,$DJ23)+EH$24*IF($DL23="Y",$DN23,$DK23))*100/EH$24,99)} -> 99 | ... EN20: {=IFERROR((LOOKUP(EN$24,$CO23:$CS23,$CT23:$CX23)+IF($CN23="Y",SUMPRODUCT($DE23:$DI23-$DD23:$DH23,EN$24-$CY23:$DC23,N(EN$24>$CY23:$DC23)),EN$24*LOOKUP(EN$24,$CY23:$DC23,$DE23:$DI23))+IF($DL23="Y",$DM23,$DJ23)+EN$24*IF($DL23="Y",$DN23,$DK23))*100/EN$24,99)} -> 99 | EO20: 0 | EP20: 100 | ER20: {=IFERROR((LOOKUP(ER$24,$CO23:$CS23,$CT23:$CX23)+IF($CN23="Y",SUMPRODUCT($DE23:$DI23-$DD23:$DH23,ER$24-$CY23:$DC23,N(ER$24>$CY23:$DC23)),ER$24*LOOKUP(ER$24,$CY23:$DC23,$DE23:$DI23))+IF($DL23="Y",$DM23,$DJ23)+ER$24*IF($DL23="Y",$DN23,$DK23))*100/ER$24,99)} -> 99 | ES20: {=IFERROR((LOOKUP(ES$24,$CO23:$CS23,$CT23:$CX23)+IF($CN23="Y",SUMPRODUCT($DE23:$DI23-$DD23:$DH23,ES$24-$CY23:$DC23,N(ES$24>$CY23:$DC23)),ES$24*LOOKUP(ES$24,$CY23:$DC23,$DE23:$DI23))+IF($DL23="Y",$DM23,$DJ23)+ES$24*IF($DL23="Y",$DN23,$DK23))*100/ES$24,99)} -> 99 | ET20: {=IFERROR((LOOKUP(ET$24,$CO23:$CS23,$CT23:$CX23)+IF($CN23="Y",SUMPRODUCT($DE23:$DI23-$DD23:$DH23,ET$24-$CY23:$DC23,N(ET$24>$CY23:$DC23)),ET$24*LOOKUP(ET$24,$CY23:$DC23,$DE23:$DI23))+IF($DL23="Y",$DM23,$DJ23)+ET$24*IF($DL23="Y",$DN23,$DK23))*100/ET$24,99)} -> 99 | EU20: {=IFERROR((LOOKUP(EU$24,$CO23:$CS23,$CT23:$CX23)+IF($CN23="Y",SUMPRODUCT($DE23:$DI23-$DD23:$DH23,EU$24-$CY23:$DC23,N(EU$24>$CY23:$DC23)),EU$24*LOOKUP(EU$24,$CY23:$DC23,$DE23:$DI23))+IF($DL23="Y",$DM23,$DJ23)+EU$24*IF($DL23="Y",$DN23,$DK23))*100/EU$24,99)} -> 99 | EV20: {=IFERROR((LOOKUP(EV$24,$CO23:$CS23,$CT23:$CX23)+IF($CN23="Y",SUMPRODUCT($DE23:$DI23-$DD23:$DH23,EV$24-$CY23:$DC23,N(EV$24>$CY23:$DC23)),EV$24*LOOKUP(EV$24,$CY23:$DC23,$DE23:$DI23))+IF($DL23="Y",$DM23,$DJ23)+EV$24*IF($DL23="Y",$DN23,$DK23))*100/EV$24,99)} -> 99 | EW20: {=IFERROR((LOOKUP(EW$24,$CO23:$CS23,$CT23:$CX23)+IF($CN23="Y",SUMPRODUCT($DE23:$DI23-$DD23:$DH23,EW$24-$CY23:$DC23,N(EW$24>$CY23:$DC23)),EW$24*LOOKUP(EW$24,$CY23:$DC23,$DE23:$DI23))+IF($DL23="Y",$DM23,$DJ23)+EW$24*IF($DL23="Y",$DN23,$DK23))*100/EW$24,99)} -> 99 | EX20: {=IFERROR((LOOKUP(EX$24,$CO23:$CS23,$CT23:$CX23)+IF($CN23="Y",SUMPRODUCT($DE23:$DI23-$DD23:$DH23,EX$24-$CY23:$DC23,N(EX$24>$CY23:$DC23)),EX$24*LOOKUP(EX$24,$CY23:$DC23,$DE23:$DI23))+IF($DL23="Y",$DM23,$DJ23)+EX$24*IF($DL23="Y",$DN23,$DK23))*100/EX$24,99)} -> 99 | EY20: {=IFERROR((LOOKUP(EY$24,$CO23:$CS23,$CT23:$CX23)+IF($CN23="Y",SUMPRODUCT($DE23:$DI23-$DD23:$DH23,EY$24-$CY23:$DC23,N(EY$24>$CY23:$DC23)),EY$24*LOOKUP(EY$24,$CY23:$DC23,$DE23:$DI23))+IF($DL23="Y",$DM23,$DJ23)+EY$24*IF($DL23="Y",$DN23,$DK23))*100/EY$24,99)} -> 99 | ... GK20: {=IFERROR((LOOKUP(GK$24,$CO23:$CS23,$CT23:$CX23)+IF($CN23="Y",SUMPRODUCT($DE23:$DI23-$DD23:$DH23,GK$24-$CY23:$DC23,N(GK$24>$CY23:$DC23)),GK$24*LOOKUP(GK$24,$CY23:$DC23,$DE23:$DI23))+IF($DL23="Y",$DM23,$DJ23)+GK$24*IF($DL23="Y",$DN23,$DK23))*100/GK$24,99)} -> 99 | GL20: =IFERROR(INDEX(Database!$BP$8:$BP$360,Plan_DBRow),99) -> 99 | GM20: =IFERROR(INDEX(Database!$BP$8:$BP$360,Plan_DBRow),99) -> 99 | GT20: Local Minimum Labels | GU20: =IFERROR(IF(OR(GV19:GY19,NOT(AND(GV9:GY9))),"",GU7),"") | GV20: =IFERROR(IF(GV19,TEXT(GV7,"m/d"),""),"") | GW20: =IFERROR(IF(GW19,TEXT(GW7,"m/d"),""),"") | GX20: =IFERROR(IF(GX19,TEXT(GX7,"m/d"),""),"") | GY20: =IFERROR(IF(GY19,TEXT(GY7,"m/d"),""),"") | GZ20: =IFERROR(IF(GZ19,TEXT(GZ7,"m/d"),""),"") | HA20: =IFERROR(IF(HA19,TEXT(HA7,"m/d"),""),"") | HB20: =IFERROR(IF(HB19,TEXT(HB7,"m/d"),""),"") | HC20: =IFERROR(IF(HC19,TEXT(HC7,"m/d"),""),"") | ... IC20: =IFERROR(IF(IC19,TEXT(IC7,"m/d"),""),"") | ID20: =IFERROR(IF(OR(HZ19:IC19,NOT(AND(HZ9:IC9))),"",ID7),"") | IH20: =TEXT(INDEX(GY7:ID7,IH19),"m/d") -> #N/A
